BEGIN:VCALENDAR
PRODID:NingEventWidget-v1
VERSION:2.0
METHOD:PUBLISH
BEGIN:VEVENT
UID:2508951:Event:186773
DTSTAMP:20260424T223026Z
SUMMARY:Invaluable w/ Badfish @ The NorVa
DESCRIPTION:Come see the premier Sublime tribute band, and your favori
 te local punk band on the same stage.  Check out www.facebook.com/inv
 aluablevb for more details.\n\nFor more information visit https://vbni
 ghtlife.com/events/invaluable-w-badfish-the-norva
DTSTART:20120122T000000Z
DTEND:20120122T044500Z
CATEGORIES:concert
LOCATION:The NorVa
WEBSITE:http://maps.google.com/maps?ix=heb&um=1&ie=UTF-8&q=The+NorVa+M
 onticello&fb=1&gl=us&hq=The+NorVa+Monticello&cid=0,0,10866326690772284
 751&ei=9FgYT62vCKKIsAKus6XCCw&sa=X&oi=local_result&ct=image&ved=0CBQQ_
 BI
URL:http://maps.google.com/maps?ix=heb&um=1&ie=UTF-8&q=The+NorVa+Monti
 cello&fb=1&gl=us&hq=The+NorVa+Monticello&cid=0,0,10866326690772284751&
 ei=9FgYT62vCKKIsAKus6XCCw&sa=X&oi=local_result&ct=image&ved=0CBQQ_BI
CONTACT:757-625-4547
ORGANIZER;CN=Invaluable:https://vbnightlife.com/profile/Invaluable
ATTACH;FMTTYPE="image/jpeg":
ATTENDEE;ROLE=REQ-PARTICIPANT;PARTSTAT=ACCEPTED;RSVP=TRUE;CN=Invaluabl
 e:https://vbnightlife.com/profile/Invaluable
END:VEVENT
END:VCALENDAR
