BEGIN:VCALENDAR
PRODID:NingEventWidget-v1
VERSION:2.0
METHOD:PUBLISH
BEGIN:VEVENT
UID:2508951:Event:50719
DTSTAMP:20260420T044023Z
SUMMARY:INTERNATIONAL BLUES CHALLENGE
DESCRIPTION:Sunday, October 17, 2010 at the Commodore Theatre in Olde 
 Towne Portsmouth, VA. Doors at 11:30 a.m. - competition begins at Noon
 .\n\n$5.00 at the door.\n\nThe Natchel' Blues Network presents the IBC
 s. Come and support your local blues bands as they compete for the cha
 nce to represent the NBN in February 2011 in Memphis, TN at the Intern
 ational Blues Challenge sponsored by the Blues Foundation.\n\nFor more
  information visit https://vbnightlife.com/events/international-blues-
 challenge
DTSTART:20101017T153000Z
DTEND:20101017T210000Z
CATEGORIES:blues, challenge
LOCATION:Commodore Theatre
WEBSITE:http://www.commodoretheatre.com
URL:http://www.commodoretheatre.com
CONTACT:757-334-3695
ORGANIZER;CN="Cathy Dixson":https://vbnightlife.com/profile/CathyDixso
 n
ATTACH;FMTTYPE="image/jpeg":
ATTENDEE;ROLE=REQ-PARTICIPANT;PARTSTAT=ACCEPTED;RSVP=TRUE;CN="Cathy Di
 xson":https://vbnightlife.com/profile/CathyDixson
END:VEVENT
END:VCALENDAR
