BEGIN:VCALENDAR
PRODID:NingEventWidget-v1
VERSION:2.0
METHOD:PUBLISH
BEGIN:VEVENT
UID:2508951:Event:298670
DTSTAMP:20260422T103034Z
SUMMARY:Images for a Cure
DESCRIPTION:Mini session event to help raise money for the American Ca
 ncer Society:\n20 minute sessions$50All images posted in online galler
 y.Each session will receive 1 of our calendars.\n100% of the proceeds 
 will be donated to the American Cancer Society with our Calendars for 
 Cancer donation.\nAdditional calendars will be available for purchase 
 onsite.\nThis event does not include any prints; thus enabling us to d
 onate more. Low-res images will be available for free download. Prints
  and additional products are available for purchase via online gallery
 .\nThis is a great opportunity to get those Christmas card photos out 
 of the way early!\nPlease visit our Facebook event page to request a t
 ime slot.\n\nFor more information visit https://vbnightlife.com/events
 /images-for-a-cure
DTSTART:20141101T140000Z
DTEND:20141101T200000Z
CATEGORIES:fundraiser
LOCATION:Pagoda Garden
WEBSITE:https://www.facebook.com/events/308287516031323/
URL:https://www.facebook.com/events/308287516031323/
CONTACT:7578286117
ORGANIZER;CN="Jennifer Hadsell":https://vbnightlife.com/profile/Jennif
 erHadsell
ATTACH;FMTTYPE="image/jpeg":
ATTENDEE;ROLE=REQ-PARTICIPANT;PARTSTAT=ACCEPTED;RSVP=TRUE;CN="Jennifer
  Hadsell":https://vbnightlife.com/profile/JenniferHadsell
END:VEVENT
END:VCALENDAR
