BEGIN:VCALENDAR
PRODID:NingEventWidget-v1
VERSION:2.0
METHOD:PUBLISH
BEGIN:VEVENT
UID:2508951:Event:1337
DTSTAMP:20260420T103417Z
SUMMARY:Il Giardino Ristorante Sunday 2 for 1
DESCRIPTION:\n\n\nTwo For One Sunday’s  The Tradition continues! Sta
 rting Sunday, October 6, 2013 through April 2014 it's Two-For-One Sund
 ay!  (Dine –in and regular menu items only. Not valid with any othe
 r offer or promotion.)\n\n\n\n\nOn a trip to Florence, Italy in 1983, 
 Il Giardino co-owner Tony Gargulo saw a wood burning stove and knew i
 t would be the centerpiece for the soon-to-open restaurant. They featu
 re the tastiest focaccia in the area. All of the delicious menu items 
 are prepared with the freshest and highest quality ingredients we can 
 find. All of our sauces are made from scratch and every item is made t
 o order. Il Giardino's offers veal, seafood, chicken, pasta, vegetaria
 n and pizza creations that are all taste sensations. Add the lively so
 unds from our newly expanded piano bar and lounge, and it's no wonder 
 Il Giardino is such a popular local spot.\n\nFor more information visi
 t https://vbnightlife.com/events/il-giardino-ristorante-sunday
DTSTART:20140209T220000Z
DTEND:20140210T040000Z
CATEGORIES:"2 for 1", "il giardino's"
LOCATION:Il Giardino Ristorante
WEBSITE:http://www.ilgiardino.com
URL:http://www.ilgiardino.com
CONTACT:757-422-6464
ORGANIZER:Il Giardino Ristorante
ATTACH;FMTTYPE="image/jpeg":http://storage.ning.com/topology/rest/1.0/
 file/get/3723678163?profile=original
ATTENDEE;ROLE=REQ-PARTICIPANT;PARTSTAT=ACCEPTED;RSVP=TRUE;CN="Nicole M
 axino":https://vbnightlife.com/profile/NicoleMaxino
ATTENDEE;ROLE=REQ-PARTICIPANT;PARTSTAT=ACCEPTED;RSVP=TRUE;CN="George W
 illiam Bill Beach":https://vbnightlife.com/profile/GeorgeWilliamBillBe
 ach
END:VEVENT
END:VCALENDAR
