BEGIN:VCALENDAR
PRODID:NingEventWidget-v1
VERSION:2.0
METHOD:PUBLISH
BEGIN:VEVENT
UID:2508951:Event:314235
DTSTAMP:20260425T185640Z
SUMMARY:ICE Festival
DESCRIPTION:FRIDAY AUGUST 28TH, 2015\nÂ \nPEABODYS\n209 21st St, Virgi
 nia Beach, VA 23451\nDOORS: 4:30PM\n5:00 â€“ 5:45: KEVIN BELL\n6:00 â€
 “ 7:00: DJ MANIFESTO\n7:30 â€“ 8:30: THE JANE DOZE\n8:45 â€“ 10:00: BR
 EATHE CAROLINA\nSHAKAS\n2014 Atlantic Ave. Virginia Beach, VA 23451\nD
 OORS: 6:00PM\n6:30 â€“ 7:00: TBAÂ \n7:15 â€“ 7:45: SUBURBAN LIVING\n8:
 15 â€“ 9:00: LEISURE CRUISE\n9:15 â€“ 9:30: TONY KNUCKLEZ\n9:30 â€“ 10
 :15: SAGE FRANCIS\nÂ \nSATURDAY AUGUST 29TH, 2015\nÂ \nPEABODYS\n209 2
 1st St, Virginia Beach, VA 23451\nDOORS: 12:30PM\n1:00 â€“ 1:30: THE R
 ESET\n2:00 â€“ 2:30: THE PRESS WAR\n3:00 â€“ 3:45: HIT THE LIGHTS\n4:1
 5 â€“ 5:15: THE SPILL CANVAS\n5:45 â€“ 6:45: HAWTHORNE HEIGHTS\n7:15 â
 €“ 8:30: UNWRITTEN LAW\nSHAKAS\n2014 Atlantic Ave. Virginia Beach, VA 
 23451\nDOORS: 2:30PM\n3:00 â€“ 3:30: THE AFTERTHOUGHT STRANGER\n3:45 â
 €“ 4:15: FRIENDS WITH MONSTERS\n4:40 â€“ 5:10: SUCH GREAT HEIGHTS\n5:3
 0 â€“ 6:00: FIRE FROM THE GODS\n6:20 â€“ 6:50: THE WET BOYS\n7:10 â€“ 
 7:50: FUJIWARA\n8:10 â€“ 8:50: FREEDOM HAWK\n9:30 â€“ 11:00: AGENT ORA
 NGE\nÂ \n\nFor more information visit https://vbnightlife.com/events/i
 ce-festival
DTSTART:20150828T220000Z
DTEND:20150829T230000Z
CATEGORIES:"live music", bands, "things to do in virginia beach"
LOCATION:Virginia Beach, VA
WEBSITE:
URL:
CONTACT:
ORGANIZER:VBnightlife.com / vbdaylife
ATTACH;FMTTYPE="image/jpeg":
ATTENDEE;ROLE=REQ-PARTICIPANT;PARTSTAT=ACCEPTED;RSVP=TRUE;CN="VBnightl
 ife.com":https://vbnightlife.com/profile/admin
END:VEVENT
END:VCALENDAR
