BEGIN:VCALENDAR
PRODID:NingEventWidget-v1
VERSION:2.0
METHOD:PUBLISH
BEGIN:VEVENT
UID:2508951:Event:21616
DTSTAMP:20260422T090629Z
SUMMARY:HUNT CLUB FARM HAUNTED HALLOWEEN PARTY - COMPLETE WITH BAND SC
 HEDULE
DESCRIPTION:October 2-4th & 9-11th; 7 pm - 11 pm\nOctober 14-18th; 7 p
 m - 11 pm\nOctober 21st- 31st; 7 pm - 11 pm\n\nYou can't go wrong with
  the attractions and events at Hunt Club Farms' Haunted Halloween Fest
 ! Ghosts, Ghouls, Vampires, and Assorted Freaks! We've got it all!\n\n
 Virginia Beach's original Haunted Hayride, with major renovations!! If
  you can scream--you may make it through the Haunted Woods of Hunt Clu
 b!!\n\nWhere the living dare to walk through the dark realm of the DEA
 D!!! It is a true town of TERROR, complete with a bell tower, a swamp,
  dentists, butchers and of course....the Graveyard.\n\nA Corn Field of
  Screams...Just imagine...what will be around the next turn in the ver
 y wicked cornfield of darkness...\n\nFor the first time ever at Hunt C
 lub Farm you will get to witness a live transformation of a woman turn
 ing into a werewolf. Hopefully this experiment goes right and the were
 wolf doesn’t get loose. Also witness Krendl swallow 6 double edged r
 azor blades…This is danger on a whole other level. This is an all ne
 w experience like nothing ever witnessed before.\n\nCarnival Ride Tick
 ets (Sold at Ticket Booth near Rides Only!)\n\n1 Ticket = $1\n11 Ticke
 ts = $10\n25 Tickets = $20\n50 Tickets = $35\n\nGiant Slide 2 Tickets*
 \nHelicopter Ride 3 Tickets*\nBalloon Ride 3 Tickets*\nFerris Wheel 3 
 Tickets\nPirate Fun House 3 Tickets\n\n* Parents Ride Free with paying
  Child Under 42 in. Not Available for Advance Purchase. Purchase at Ri
 de Ticket Booth near Rides Only!\n\n\nLAST TICKET SOLD AT 10 PM\nEVENT
 S CLOSE PRIOR TO 11 pm Nightly!\nWE STRONGLY RECOMMEND PURCHASING WRIS
 TBANDS IN ADVANCE. WE DO SELL OUT!\n\nOct 21st Pumpkin Smash w/ Holly 
 Williams from Bob FM 7-9pm\n\nOct 22nd - Fright Night - Country music 
 by Heather Edwards Band 6-10\n\nOct 25th - Children's Halloween Party 
 - 12-4pm\n\nOct 28th - Wicked Wednesday - BUTTER 7-9PM\n\nOct 29th - F
 right Night - GRIDLOCK 64 - 6-10PM\n\nOct 31st - HALLOWEEN - free tric
 k or treating\n\nFor more information visit https://vbnightlife.com/ev
 ents/hunt-club-farm-haunted
DTSTART:20091031T040000Z
DTEND:20091101T035900Z
CATEGORIES:festival
LOCATION:Hunt Club Farm
WEBSITE:http://www.huntclubfarm.com/newhalloween/
URL:http://www.huntclubfarm.com/newhalloween/
CONTACT:
ORGANIZER;CN="VBnightlife.com":https://vbnightlife.com/profile/admin
ATTACH;FMTTYPE="image/jpeg":http://storage.ning.com/topology/rest/1.0/
 file/get/1664088795?profile=original
ATTENDEE;ROLE=REQ-PARTICIPANT;PARTSTAT=ACCEPTED;RSVP=TRUE;CN="VBnightl
 ife.com":https://vbnightlife.com/profile/admin
ATTENDEE;ROLE=REQ-PARTICIPANT;PARTSTAT=TENTATIVE;RSVP=TRUE;CN="Yvette 
 Berry":https://vbnightlife.com/profile/YvetteBerry
END:VEVENT
END:VCALENDAR
