BEGIN:VCALENDAR
PRODID:NingEventWidget-v1
VERSION:2.0
METHOD:PUBLISH
BEGIN:VEVENT
UID:2508951:Event:158120
DTSTAMP:20260423T170817Z
SUMMARY:HRBOR: Third Thursday Business Networking Event FEATURING MAYO
 R WILL SESSOMS
DESCRIPTION:\nWho: Hampton Roads Business OutReach\nWhat: Third Thursd
 ay Business Net-working Event \nSpecial treat: Virginia Beach Mayor 
 Will Sessoms will give us a state of Virginia Beach address and how
  if relates to the LGBT and Allied Community !\nWhere: The Green On
 ion, 1336 N Great Neck Road, Virginia Beach VA 23454 Telephone: 757-2
 48-3474\nWhen: Thursday, July 21st, 2011 from 6 p.m. - 8 p.m.\nParki
 ng: Ample parking available around restaurant.\nFeatured Non-profit: 
 Hope House \nBeverage Sponsor: Cash Bar, Special Drink Prices\nFood Sp
 onsor: Annette Stone, The Green Onion\nCost: Free to Members\n** Gues
 ts - $15 Fee **RSVP HERE!\n\nOur July 2011 Third Thursday will be ho
 sted by Annette Stone/The Green Onion at The Green Onion 1336 N Great
  Neck Rd Virginia Beach, Virginia. Special treat: Virginia Beach May
 or Will Sessoms will give us a state of Virginia Beach address and 
 how if relates to the LGBT and Allied Community !\n \n\nThe Green O
 nion At Great Neck: A Creative Bistro Style Menu in a Modern and Chic
  Atmosphere.\nWho: Hampton Roads Business OutReach\nWhat: Third Thur
 sday Business Net-working Event\nWhere: The Green Onion, 1336 N Grea
 t Neck Road, Virginia Beach VA 23454 Telephone: 757-248-3474ttp://www.
 thegreenonionrestaurant.com/index.cfm?websiteid=7724\n\n\n\nFor more i
 nformation visit https://vbnightlife.com/events/hrbor-third-thursday-b
 usiness-
DTSTART:20110721T220000Z
DTEND:20110722T000000Z
CATEGORIES:"virginia beach events", "business networking", "hampton ro
 ads business outreach", "lgbt community", "hope house benefit"
LOCATION:The Green Onion
WEBSITE:http://www.hrbor.org/
URL:http://www.hrbor.org/
CONTACT:
ORGANIZER;CN="VBnightlife.com":https://vbnightlife.com/profile/admin
ATTACH;FMTTYPE="image/jpeg":http://storage.ning.com/topology/rest/1.0/
 file/get/1664147964?profile=original
ATTENDEE;ROLE=REQ-PARTICIPANT;PARTSTAT=ACCEPTED;RSVP=TRUE;CN="Rolan St
 ears":https://vbnightlife.com/profile/RolanStears
ATTENDEE;ROLE=REQ-PARTICIPANT;PARTSTAT=ACCEPTED;RSVP=TRUE;CN="VBnightl
 ife.com":https://vbnightlife.com/profile/admin
END:VEVENT
END:VCALENDAR
