BEGIN:VCALENDAR
PRODID:NingEventWidget-v1
VERSION:2.0
METHOD:PUBLISH
BEGIN:VEVENT
UID:2508951:Event:197150
DTSTAMP:20260423T031510Z
SUMMARY:HRBOR: Third Thursday: 5th Anniversary Extravaganva
DESCRIPTION:Join us for an evening to remember as we celebrate the Fif
 th anniversary of HRBOR in the style and elegance that only the Harris
 on Opera House can provide. The Virginia Opera Association, Inc., in i
 ts 37th year of operation, is known and respected nationwide for the i
 dentification and presentation of the finest young artists, for the mu
 sical and dramatic integrity of its productions, and for the ingenuity
  and variety of its education and outreach programs. Bring your friend
 s, business affiliates, associates, and anyone interested in Building 
 Equality within business as we honor the founding members and look to 
 current as well as prospective members for the future growth within th
 e community. \n\n\nCost: Free to Members\n** Prospective Members - $1
 5 Fee **\nAttention Members & Guests:  the Foodbank of Southeastern 
 Virginia is in dire need of Food. Please bring non-perishable or canne
 d food items to help re-stock their empty shelves.\n\nFor more informa
 tion visit https://vbnightlife.com/events/hrbor-third-thursday-5th-ann
 iversary-extravaganva
DTSTART:20120621T220000Z
DTEND:20120622T000000Z
CATEGORIES:"norfolk events", hrbor, "hrbor third thursdays"
LOCATION:Harrison Opera House
WEBSITE:http://www.hrbor.org/Default.aspx?pageId=561761&eventId=486839
 &EventViewMode=EventDetails
URL:http://www.hrbor.org/Default.aspx?pageId=561761&eventId=486839&Eve
 ntViewMode=EventDetails
CONTACT:
ORGANIZER;CN="VBnightlife.com":https://vbnightlife.com/profile/admin
ATTACH;FMTTYPE="image/jpeg":http://storage.ning.com/topology/rest/1.0/
 file/get/1664171737?profile=original
ATTENDEE;ROLE=REQ-PARTICIPANT;PARTSTAT=ACCEPTED;RSVP=TRUE;CN="Rolan St
 ears":https://vbnightlife.com/profile/RolanStears
ATTENDEE;ROLE=REQ-PARTICIPANT;PARTSTAT=ACCEPTED;RSVP=TRUE;CN="VBnightl
 ife.com":https://vbnightlife.com/profile/admin
END:VEVENT
END:VCALENDAR
