BEGIN:VCALENDAR
PRODID:NingEventWidget-v1
VERSION:2.0
METHOD:PUBLISH
BEGIN:VEVENT
UID:2508951:Event:319192
DTSTAMP:20260424T021758Z
SUMMARY:HOW TO ROAST A TURKEY courtesy of George Culver @iHeartfoodVB
DESCRIPTION:\nhttp://www.i-heart-food.com/blog/2015/11/23/how-to-roast
 -a-turkey\n\nFor more information visit https://vbnightlife.com/events
 /how-to-roast-a-turkey
DTSTART:20151126T050000Z
DTEND:20151127T045900Z
CATEGORIES:"how to roast a turkey", "happy thanksgiving", iheartfood, 
 "george culver"
LOCATION:Virginia Beach, VA
WEBSITE:
URL:
CONTACT:
ORGANIZER:VBnightlife.com / iheartfood / george culver
ATTACH;FMTTYPE="image/jpeg":http://storage.ning.com/topology/rest/1.0/
 file/get/1664296686?profile=original
ATTENDEE;ROLE=REQ-PARTICIPANT;PARTSTAT=ACCEPTED;RSVP=TRUE;CN="Rolan St
 ears":https://vbnightlife.com/profile/RolanStears
ATTENDEE;ROLE=REQ-PARTICIPANT;PARTSTAT=ACCEPTED;RSVP=TRUE;CN="VBnightl
 ife.com":https://vbnightlife.com/profile/admin
END:VEVENT
END:VCALENDAR
