BEGIN:VCALENDAR
PRODID:NingEventWidget-v1
VERSION:2.0
METHOD:PUBLISH
BEGIN:VEVENT
UID:2508951:Event:16276
DTSTAMP:20260425T130558Z
SUMMARY:Housexy @ 15th Street Raw Bar
DESCRIPTION:\"Housexy\" with DJ Add4Right & DJ Silver @ 15th Street Ra
 w Bar !!! sponsored by Stoli Vodka and Monster Energy Drink.\n\nFor mo
 re information visit https://vbnightlife.com/events/housexy-15th-stree
 t-raw-bar
DTSTART:20090629T040000Z
DTEND:20090701T035900Z
CATEGORIES:house, party, "@", the, beach
LOCATION:15th Street Raw Bar
WEBSITE:http://maps.google.com/maps?f=q&source=s_q&hl=en&geocode=&q=15
 th+Street+Raw+Bar,+Virginia+Beach&sll=36.854626,-75.976295&sspn=0.0652
 44,0.110378&ie=UTF8&ll=36.854626,-75.974751&spn=0.065244,0.110378&z=13
 &iwloc=A
URL:http://maps.google.com/maps?f=q&source=s_q&hl=en&geocode=&q=15th+S
 treet+Raw+Bar,+Virginia+Beach&sll=36.854626,-75.976295&sspn=0.065244,0
 .110378&ie=UTF8&ll=36.854626,-75.974751&spn=0.065244,0.110378&z=13&iwl
 oc=A
CONTACT:
ORGANIZER:DJ Add4Right and DJ Silver
ATTACH;FMTTYPE="image/jpeg":http://storage.ning.com/topology/rest/1.0/
 file/get/1664079264?profile=original
ATTENDEE;ROLE=REQ-PARTICIPANT;PARTSTAT=ACCEPTED;RSVP=TRUE;CN="DJ Add4R
 ight":https://vbnightlife.com/profile/DJAdd4Right
ATTENDEE;ROLE=REQ-PARTICIPANT;PARTSTAT=TENTATIVE;RSVP=TRUE;CN="Dan Her
 bert":https://vbnightlife.com/profile/DanHerbert
END:VEVENT
END:VCALENDAR
