BEGIN:VCALENDAR
PRODID:NingEventWidget-v1
VERSION:2.0
METHOD:PUBLISH
BEGIN:VEVENT
UID:2508951:Event:299341
DTSTAMP:20260419T231054Z
SUMMARY:House of Blues and Brews at Virginia Museum of Contemporary AR
 t
DESCRIPTION:PURCHASE YOUR TICKETS ON MOCA'S WEBSITE HERE: http://virg
 iniamoca.org/6th-annual-house-blues-and-brews\nWhy we love this event?
 \n\nEnjoy casual camaraderie while listening to 2 fantastic bands\nOne
  of the Best Parties in Virginia Beach Every Fall\nSUNDAY, NOVEMBER 
 2nd, 1PM TO 5PM.\nGeneral Admission Ticket INCLUDES Food & Live Enter
 tainment - Beer and wine to be sold at the bar.\nVIP Admission Ticke
 t includes 3 Drink Tickets, Food, Private VIP tent and food catered b
 y Award Winning Atlantic Shores.  \nHeld on the front lawn of the bea
 utiful Virginia Museum of Contemporary Art (MOCA), 22nd and Parks Aven
 ue (7 blocks from the ocean). \nSome of the area’s most celebrated 
 restaurants will come together to create autumn inspired stews and oth
 er morsels for you to taste while chefs compete for the “Best Stew 
  award. \nA variety of craft beers as well as a selection of excell
 ent wines will be served.  \nLIVE ENTERTAINMENT INCLUDES: Opening ban
 d More Perfect Jones Bluegrass Band and  HEADLINER The Reverend Pe
 yton’s Big Damn Band: http://www.bigdamnband.com/ \nWHRO's Paul S
 hugrue will be our guest emcee, The Virginian-Pilot Epicure, Lorrain
 e Eaton will judge \"Best Stew\" and the new Face of Fox, Ty Lorenz
 o will remind folks to vote for their favorite stew for the first eve
 r \"People's Choice\" award! \nTake in MOCA's fall exhibitions \nDo 
 a little holiday shopping at our silent auction with items donated fr
 om the artists in this year's Boardwalk Art Show!  \nAll proceeds be
 nefit MOCA’s exhibitions and education programs. \n\n \n\n \n\nFo
 r more information visit https://vbnightlife.com/events/house-of-blues
 -and-brews-at-virginia-museum-of-contemporary-art
DTSTART:20141102T180000Z
DTEND:20141102T230000Z
CATEGORIES:"events in virginia beach"
LOCATION:Virginia Museum of Contemporary Art
WEBSITE:
URL:
CONTACT:
ORGANIZER;CN="VBnightlife.com":https://vbnightlife.com/profile/admin
ATTACH;FMTTYPE="image/jpeg":http://storage.ning.com/topology/rest/1.0/
 file/get/1664254548?profile=original
ATTENDEE;ROLE=REQ-PARTICIPANT;PARTSTAT=ACCEPTED;RSVP=TRUE;CN="VBnightl
 ife.com":https://vbnightlife.com/profile/admin
END:VEVENT
END:VCALENDAR
