BEGIN:VCALENDAR
PRODID:NingEventWidget-v1
VERSION:2.0
METHOD:PUBLISH
BEGIN:VEVENT
UID:2508951:Event:319267
DTSTAMP:20260424T033207Z
SUMMARY:HOTCAKES SPECIAL FAREWELL SHOW AT WING KING
DESCRIPTION:\n*****SPECIAL EVENT*****HOTCAKES ARE ROCKING WING KING KE
 MPSVILLE FOR THE LAST TIME!!\n\n8PM\n\nFor more information visit http
 s://vbnightlife.com/events/hotcakes-special-farewell-show-at-wing-king
DTSTART:20151125T050000Z
DTEND:20151126T045900Z
CATEGORIES:hotcakes, "pre thanksgiving party", "wing king"
LOCATION:WING KING KEMPSVILLE
WEBSITE:
URL:
CONTACT:
ORGANIZER:VBnightlife.com / WING KING
ATTACH;FMTTYPE="image/jpeg":http://storage.ning.com/topology/rest/1.0/
 file/get/1664296599?profile=original
ATTENDEE;ROLE=REQ-PARTICIPANT;PARTSTAT=ACCEPTED;RSVP=TRUE;CN="Rolan St
 ears":https://vbnightlife.com/profile/RolanStears
ATTENDEE;ROLE=REQ-PARTICIPANT;PARTSTAT=ACCEPTED;RSVP=TRUE;CN="VBnightl
 ife.com":https://vbnightlife.com/profile/admin
END:VEVENT
END:VCALENDAR
