BEGIN:VCALENDAR
PRODID:NingEventWidget-v1
VERSION:2.0
METHOD:PUBLISH
BEGIN:VEVENT
UID:2508951:Event:33244
DTSTAMP:20260423T090722Z
SUMMARY:Hot Cakes @ South Beach Grill
DESCRIPTION:Hot Cakes playing @ South Beach Grill This band plays the 
 stuff that Moves @ Grooves you! Great Dance band\n\nFor more informati
 on visit https://vbnightlife.com/events/hot-cakes-south-beach-grill
DTSTART:20120120T050000Z
DTEND:20120121T045900Z
CATEGORIES:band
LOCATION:Virginia Baech
WEBSITE:
URL:
CONTACT:
ORGANIZER;CN="VBnightlife.com":https://vbnightlife.com/profile/admin
ATTACH;FMTTYPE="image/jpeg":http://storage.ning.com/topology/rest/1.0/
 file/get/1664106131?profile=original
ATTENDEE;ROLE=REQ-PARTICIPANT;PARTSTAT=ACCEPTED;RSVP=TRUE;CN="VBnightl
 ife.com":https://vbnightlife.com/profile/admin
END:VEVENT
END:VCALENDAR
