BEGIN:VCALENDAR
PRODID:NingEventWidget-v1
VERSION:2.0
METHOD:PUBLISH
BEGIN:VEVENT
UID:2508951:Event:162643
DTSTAMP:20260420T164602Z
SUMMARY:Holly Festival of Trees - CHKD Benefit
DESCRIPTION:We are excited to announce that this year’s Holly Festiv
 al is presented by Paul & Brenda Sharp and will be held at the Virgini
 a Beach Convention Center on November 18 & 19, 2011. This two-day extr
 avaganza is one of CHKD’s largest fundraising events of the year, wi
 th more than 800 patrons attending.  \nThe event kicks off with: \nG
 ALA WITH AUCTIONS\nFriday\nNovember 18th\n7pm-11pm\n$80/person\nFeatur
 ing beautifully decorated trees, enchanting gingerbread creations, and
  stunning live and silent auctions brought to you by local artists, ch
 efs, businesses and community groups. These unique designs and luxurio
 us gifts are all auctioned off to the highest bidder – you really ha
 ve to see it to believe it! \nPURCHASE TICKETS FOR THE GALA HERE\n \
 nafter 2pm today tickets will only be available at the door 30 minute
 s prior to event start time for both Fri. and Sat.\n The weekend’s a
 ctivities end with a family tradition:\nBREAKFAST WITH SANTA-presented
  by Busch Gardens\nSaturday\nNovember 19th\n10am-1pm\n$20/person\nIncl
 uding an extravagant train village (back by popular demand)!\n \nPURC
 HASE TICKETS FOR BREAKFAST WITH SANTA HERE \nYour support of this even
 t will help CHKD purchase new patient care technology for CHKD’s neo
 natal intensive care unit, which provides the highest level of care av
 ailable in this region to critically-ill newborns. Each year, more tha
 n 500 babies are admitted to CHKD’s NICU. Many have been born premat
 urely---some as much as 16 weeks before they are due---while others fa
 ce life-threatening illnesses or birth defects. CHKD’s NICU babies n
 eed highly specialized equipment to help them survive, from temperatur
 e- and humidity-controlled incubators, to high-frequency ventilators, 
 to minute versions of everyday items like blood pressure cuffs and dia
 pers. Help us make sure the children in our community have the best ch
 ance for a healthy future. \n\nFor more information visit https://vbn
 ightlife.com/events/holly-festival-of-trees-chkd-benefit
DTSTART:20111119T000000Z
DTEND:20111119T180000Z
CATEGORIES:"virginia beach fundraiser", "christmas party", "virginia b
 each holiday season", "fundraiser gala", "virginia beach family fun", 
 "breakfast with santa"
LOCATION:Virginia Beach Convention Center
WEBSITE:
URL:
CONTACT:757 668-7098
ORGANIZER:VBnightlife.com / VBdaylife.com
ATTACH;FMTTYPE="image/jpeg":http://storage.ning.com/topology/rest/1.0/
 file/get/1664149993?profile=original
ATTENDEE;ROLE=REQ-PARTICIPANT;PARTSTAT=ACCEPTED;RSVP=TRUE;CN="Rolan St
 ears":https://vbnightlife.com/profile/RolanStears
ATTENDEE;ROLE=REQ-PARTICIPANT;PARTSTAT=ACCEPTED;RSVP=TRUE;CN="VBnightl
 ife.com":https://vbnightlife.com/profile/admin
END:VEVENT
END:VCALENDAR
