BEGIN:VCALENDAR
PRODID:NingEventWidget-v1
VERSION:2.0
METHOD:PUBLISH
BEGIN:VEVENT
UID:2508951:Event:322512
DTSTAMP:20260422T091917Z
SUMMARY:Holiday Wine Walk of Olde Town Portsmouth
DESCRIPTION:\nPurchase discount ticket for $16 (vs $25) here: http://
 www.coastalvirginiahotdeals.com/Go-Locals-Holiday-Wine-Walk/Norfolk/23
 510/deals/3rd-Annual-Holiday-Wine-Walk-of-Portsmouth--December-19th--n
 oon-to-5pm/99765/3726\n\n3rd Annual Holiday Wine Walk of Olde Town Por
 tsmouth\n• December 19, 2015 noon to 5pm\n• Sample wines from th
 e best restaurants in Olde Towne Portsmouth. Food specials at all loca
 tions\n• Enjoy the holiday decor along High Street\n• Finale Par
 ty 5pm to 7pm at Roger Brown’s. Your ticket includes a souvenir holi
 day wine glass and appetizers!\n• Special prize for the most festiv
 e attire\n• Registration 11am to 1pm at 757 Crave on the Harbor Pro
 ceeds throughout Olde Towne with a tasting at each stop.\n• Stay fo
 r a romantic evening at the beautiful waterfront Renaissance Hotel, of
 fering a special rate of $79 to all Go Local event participants. Call
  them at (757) 673-3000 and mention “Take the Elevator Home” rate.
  \nParticipating Restaurants Include: \n• 757 Crave On The Harbor
  \n• The Bier Garden \n• Humboldt Steel Corporation \n• Ro
 ger Brown’s Restaurant and Sports Bar \n• Guads Oldetowne \n•
  Foggy Point \n\nWhat's the Catch? \n• Purchase as many as you l
 ike for you and your friends. \n• Only 50 discount tickets will be
  sold. Tickets will be $25 at the door \nNo refunds   Rain or shine
  event \n\nOnce you purchase your voucher, your name will be on the g
 uest list at 757 Crave on the Harbor between 11am and 1pm\n\nFor more 
 information visit https://vbnightlife.com/events/holiday-wine-walk-of-
 olde-town-portsmouth
DTSTART:20151219T050000Z
DTEND:20151220T045900Z
CATEGORIES:holiday, wine, walk
LOCATION:Portsmouth VA
WEBSITE:
URL:
CONTACT:
ORGANIZER;CN="VBnightlife.com":https://vbnightlife.com/profile/admin
ATTACH;FMTTYPE="image/jpeg":http://storage.ning.com/topology/rest/1.0/
 file/get/1664297351?profile=original
ATTENDEE;ROLE=REQ-PARTICIPANT;PARTSTAT=ACCEPTED;RSVP=TRUE;CN="VBnightl
 ife.com":https://vbnightlife.com/profile/admin
END:VEVENT
END:VCALENDAR
