BEGIN:VCALENDAR
PRODID:NingEventWidget-v1
VERSION:2.0
METHOD:PUBLISH
BEGIN:VEVENT
UID:2508951:Event:318922
DTSTAMP:20260422T192352Z
SUMMARY:Holiday Party and Fundraiser Featuring Strictly Bizzness
DESCRIPTION:\nWhy we love this fundraiser:\n\nHoliday Party / Fundrai
 ser with a Creole flair  \nThis event supports the Virginia Beach Hu
 man Services Holiday Project - providing gifts to those who would othe
 rwise go without\nLive music and dancing with awesome dance band Stri
 ctly Bizzness\nNew Orleans Cusine Buffet - FULL DINNER BUFFET\nNew Orl
 eans \"Second Line\" Parade - bring a tambouraine and join in the fun\
 nAwesome silent auction and raffle\nWhen: Saturday December 5, 2015; 
 6pm - 11pm\nWhere: DoubleTree Hotel near the Norfolk Airport (1500 N 
 Military Hwy, Norfolk, VA 23502)\nReference \"Mardi Gras Christmas Eve
 nt\" for special room rate of $69 when you call the hotel to book y
 ours at (757) 466-8000\n100% of the proceeds to benefit local kids in
  need; money raised from this event will provide gifts during the holi
 days for those less fortunate\nFeaturing: WHOV radio personality Kimb
 erly J\nOnly 50 tickets will be sold at this price\nJoin us for a nigh
 t of networking with seasoned professionals and esteemed business owne
 rs, Cajun cuisine, live music, and dancing. Costume / festive Mardi Gr
 as attire is optional!\nFor more information message Joe Lee at j.lee
 @jlgov.com\n\nMardi Gras Stations Buffet - 7 to 8:30pm\nSalad Station\
 nSpiced Potato Salad\nMacaroni Salad\nDoubletree House Salad w/ Choice
  of 2 Dressings\nCarving Station\nSmoked Beef with Chef's choice of sa
 uce on side\nArtisan Dinner Rolls\nChef's selection of vegetables\nLou
 isiana Station\nChicen Gumbo without bones served with white rice\nShr
 imp Jambalaya\nDirty Rice with sausage\nDessert Station served at 8:30
 pm\nPecan Pie\nApple Pie\nAssortment of Cookies\nFresh Whipped Cream\n
 \n\n\nFor more information visit https://vbnightlife.com/events/holida
 y-party-and-fundraiser-featuring-strictly-bizzness
DTSTART:20151205T230000Z
DTEND:20151206T040000Z
CATEGORIES:fundraiser, "holiday party", "mardi gras"
LOCATION:Doubletree Hotel Norfolk Airport
WEBSITE:
URL:
CONTACT:
ORGANIZER:VBnightlife.com / JLGov, LLC / Joe Lee
ATTACH;FMTTYPE="image/jpeg":http://storage.ning.com/topology/rest/1.0/
 file/get/1664290806?profile=original
ATTENDEE;ROLE=REQ-PARTICIPANT;PARTSTAT=ACCEPTED;RSVP=TRUE;CN="Rolan St
 ears":https://vbnightlife.com/profile/RolanStears
ATTENDEE;ROLE=REQ-PARTICIPANT;PARTSTAT=ACCEPTED;RSVP=TRUE;CN="VBnightl
 ife.com":https://vbnightlife.com/profile/admin
END:VEVENT
END:VCALENDAR
