BEGIN:VCALENDAR
PRODID:NingEventWidget-v1
VERSION:2.0
METHOD:PUBLISH
BEGIN:VEVENT
UID:2508951:Event:350640
DTSTAMP:20260421T183811Z
SUMMARY:Haunted Hunt Club Farm
DESCRIPTION:\r\n\r\n\r\n\n\nFor more information visit https://vbnight
 life.com/events/haunted-hunt-club-farm
DTSTART:20180914T220000Z
DTEND:20181031T230000Z
CATEGORIES:haunted, hunt, club, halloween, events, in, virginia, beach
LOCATION:Hunt Club Farm
WEBSITE:
URL:
CONTACT:
ORGANIZER;CN="VBnightlife.com":https://vbnightlife.com/profile/admin
ATTACH;FMTTYPE="image/jpeg":
ATTENDEE;ROLE=REQ-PARTICIPANT;PARTSTAT=ACCEPTED;RSVP=TRUE;CN="VBnightl
 ife.com":https://vbnightlife.com/profile/admin
END:VEVENT
END:VCALENDAR
