BEGIN:VCALENDAR
PRODID:NingEventWidget-v1
VERSION:2.0
METHOD:PUBLISH
BEGIN:VEVENT
UID:2508951:Event:7397
DTSTAMP:20260425T185227Z
SUMMARY:HARLAND WILLIAMS @ THE FUNNY BONE
DESCRIPTION:Harland Williams\nWebsite: http://www.harlandwilliams.com/
 \n\nEasy-going and very unorthodox in his approach, Harland returns wi
 th his brand of wacky observations and good-natured humor. A bit of a 
 prankster, he tends to discuss everyday topics with a bizarre, yet end
 earing twist. An endless number of films have highlighted Harland's ta
 lents: The Whole Nine Yards, Dumb and Dumber, Rocket Man, There's Some
 thing About Mary, Robots, and the cult classic Half Baked. Listen for 
 Harland's character in the animated films Surf School and Meet the Rob
 insons.\n\nShow Times\nThursday, March 05, 2009\n8:00 PM\n\nFriday, Ma
 rch 06, 2009\n8:00 PM, 10:30 PM\n\nSaturday, March 07, 2009\n8:00 PM, 
 10:30 PM\n\nSunday, March 08, 2009\n7:00 PM\n\nFor more information vi
 sit https://vbnightlife.com/events/harland-williams-the-funny
DTSTART:20090309T000000Z
DTEND:20090309T030000Z
CATEGORIES:comedy
LOCATION:The Virginia Beach Funny Bone
WEBSITE:
URL:
CONTACT:
ORGANIZER:The Virginia Beach Funny Bone
ATTACH;FMTTYPE="image/jpeg":http://storage.ning.com/topology/rest/1.0/
 file/get/1664069273?profile=original
ATTENDEE;ROLE=REQ-PARTICIPANT;PARTSTAT=ACCEPTED;RSVP=TRUE;CN="Nicole M
 axino":https://vbnightlife.com/profile/NicoleMaxino
END:VEVENT
END:VCALENDAR
