BEGIN:VCALENDAR
PRODID:NingEventWidget-v1
VERSION:2.0
METHOD:PUBLISH
BEGIN:VEVENT
UID:2508951:Event:102317
DTSTAMP:20260424T202403Z
SUMMARY:Hardee's Latin Music Festival
DESCRIPTION:\nFor two days, Virginia Beach celebrates the sights and s
 ounds of the Latin experience. Based on a popular Latin festival in Mi
 ami, the Virginia Beach version retains the key ingredients of good fo
 od, family participation, and first-rate Latin music\n \nNational per
 formers electrify the diverse audience with high-energy tunes that mov
 e the crowd to dance under the stars. Local and regional Latin acts (e
 ach with their own loyal fan base) take the stage and unite festival-g
 oers with the rhythms of Salsa, Merengue, and Jazz.\n \nFriday, June 
 105:15pm-6:00pm, Salem High School Steel Drum Band6:15pm-7:30pm, Tumba
 o Salsero7:45pm-9:00pm, Bachoca9:30pm-11:00pm, Raul Acosta y Oro Solid
 o\nSaturday, June 118:30am-12:00pm, Zumba Marathon12:45pm-1:45pm, Mari
 achi La Vox De Mexico2:15pm-3:30pm, Latin Jazz Conspiracy4:00pm-5:15pm
 , Ultima Nota5:45pm-7:00pm, Flamazo Tropical7:30pm-9:00pm, Luisito Ros
 ario9:30pm-11:00pm, Larry Harlow Orchestra\nAdditional activities incl
 ude the Zumba Fitness Marathon, a 3-hour Latin-inspired, easy-to-follo
 w fitness routine led by Master Level Zumba Instructor Liana Veda.  D
 oor prizes and awards are featured.  Latin Fest is a free event.\n \
 n\nFor more information visit https://vbnightlife.com/events/hardees-l
 atin-music-festival
DTSTART:20110611T210000Z
DTEND:20110612T030000Z
CATEGORIES:"virginia beach events", "virginia beach latin music", "vir
 ginia beach music", "virginia beach salsa"
LOCATION:24th Street Park
WEBSITE:
URL:
CONTACT:
ORGANIZER:VBnightlife.com / VBdaylife.com
ATTACH;FMTTYPE="image/jpeg":http://storage.ning.com/topology/rest/1.0/
 file/get/1664136060?profile=original
ATTENDEE;ROLE=REQ-PARTICIPANT;PARTSTAT=ACCEPTED;RSVP=TRUE;CN="VBnightl
 ife.com":https://vbnightlife.com/profile/admin
ATTENDEE;ROLE=REQ-PARTICIPANT;PARTSTAT=ACCEPTED;RSVP=TRUE;CN="J R Rich
 ards":https://vbnightlife.com/profile/JRRichards
END:VEVENT
END:VCALENDAR
