BEGIN:VCALENDAR
PRODID:NingEventWidget-v1
VERSION:2.0
METHOD:PUBLISH
BEGIN:VEVENT
UID:2508951:Event:312857
DTSTAMP:20260425T104350Z
SUMMARY:HARDEE'S LATIN FEST
DESCRIPTION:National performers electrify the diverse audience with hi
 gh-energy tunes that move the crowd to dance under the stars. Local an
 d regional Latin acts take the stage and unite festival-goers with the
  rhythms of Salsa, Merengue, and Jazz.  Headline performances will ta
 ke place on a giant stage on the beach at 24th Street.\n\nKinito Ménd
 ez, a Merengue singer, started his career in 1988 as one of the co-fou
 nders of the popular Merengue band La Cocoband.  Mendez wrote and arr
 anged many of La Cocoband's hit songs including \"La Manito,\" \"El Bo
 che,\" \"La Seca,\" \"El Cacu,\" and \"Mujer Malvada.\"  With the suc
 cess of La Cocoband Mendez decided to leave and start his own project 
 in early 1992 along with Bobby Rafael.  With new band Rokabanda Mende
 z recorded three hit albums.  In 1995 Mendez decided to go solo and r
 eleased his much anticipated solo album \"El Hombre Merengue,\" which 
 sold 1.5 million copies, a rare feat for a tropical artist.  Kinito M
 endez will take the stage Friday, June 26, from 9:15pm-10:45pm.\n\n\nF
 riday, June 26\n \nSaturday, June 27\n24th Street Park Stage:\n8:00am
 -Noon, Mambo Room Zumba Marathon\n12:45pm-1:15pm, Ballet Folklorico Gu
 adalupano\n1:30pm-2:00pm, Panamanian Folkloric Group of Hampton Roads\
 n2:15pm-2:45pm, Ballet Folklorico Guadalupano\n3:00pm-3:30pm, Mambo Ro
 om salsa\nStage on the Beach at 24th Street:\n3:30pm-4:45pm, Mosaic St
 eel Orchestra\n5:15pm-6:45pm, Bachaco\n7:15pm-8:45pm, Locos Por Juana\
 n9:15pm-10:45pm, Ismael Miranda\nProceeds support the Virginia Legends
  Walk.\n\n\n\n\n\n\n\n\n\n\n\n\n\n\n- See more at: http://www.beachstr
 eetusa.com/festivals/hardees-latin-fest#sthash.TsAcUqZ6.dpuf\n\n\nFor 
 more information visit https://vbnightlife.com/events/hardee-s-latin-f
 est-1
DTSTART:20150627T220000Z
DTEND:20150628T020000Z
CATEGORIES:"latin fest", "beach street usa"
LOCATION:24TH STreet Park
WEBSITE:
URL:
CONTACT:
ORGANIZER:VBnightlife.com / vbdaylife
ATTACH;FMTTYPE="image/jpeg":http://storage.ning.com/topology/rest/1.0/
 file/get/1664231129?profile=original
ATTENDEE;ROLE=REQ-PARTICIPANT;PARTSTAT=ACCEPTED;RSVP=TRUE;CN="Rolan St
 ears":https://vbnightlife.com/profile/RolanStears
ATTENDEE;ROLE=REQ-PARTICIPANT;PARTSTAT=ACCEPTED;RSVP=TRUE;CN="VBnightl
 ife.com":https://vbnightlife.com/profile/admin
END:VEVENT
END:VCALENDAR
