BEGIN:VCALENDAR
PRODID:NingEventWidget-v1
VERSION:2.0
METHOD:PUBLISH
BEGIN:VEVENT
UID:2508951:Event:11625
DTSTAMP:20260420T044302Z
SUMMARY:HAPPY JACK, DJ JOE FU & BOO BRITT ON DRUMS @ CENTRAL 111
DESCRIPTION:Rockstar Tuesdays at Central 111!! Heres the Lineup... Hap
 py Jack, Dj Joe Fu and Boo Britt on Drums from Fuzz band! Its a total 
 different night than you are used too! You get to here you favorite ro
 ck songs from the 70' to today! Of course I will put alittle twist on 
 them at times! We have Allstarlife in the house, Free Giveaways all ni
 ght long, Dancers and some of the best tapas in the 757! Get out there
  early the last couple weeks have been packed like crazy! Hope to see 
 you tonight!!!\n\npeace be with you\nJoe Fu\n\nFor more information vi
 sit https://vbnightlife.com/events/happy-jack-dj-joe-fu-boo
DTSTART:20090421T040000Z
DTEND:20090422T035900Z
CATEGORIES:dj
LOCATION:Central 111
WEBSITE:
URL:
CONTACT:
ORGANIZER:DJ Joe Fu
ATTACH;FMTTYPE="image/jpeg":http://storage.ning.com/topology/rest/1.0/
 file/get/1664070636?profile=original
ATTENDEE;ROLE=REQ-PARTICIPANT;PARTSTAT=ACCEPTED;RSVP=TRUE;CN="Nicole M
 axino":https://vbnightlife.com/profile/NicoleMaxino
END:VEVENT
END:VCALENDAR
