BEGIN:VCALENDAR
PRODID:NingEventWidget-v1
VERSION:2.0
METHOD:PUBLISH
BEGIN:VEVENT
UID:2508951:Event:193326
DTSTAMP:20260422T051823Z
SUMMARY:Happy Hour to benefit The Leukemia and Lymphoma Society
DESCRIPTION:Come enjoy superb Mexican cuisine and help fight cancer at
  the same time!  Whether you like nachos and margaritas, or fresh sea
 food dishes and beer, you can find it all here! A portion of the proce
 eds will be used to help fund life-saving research, patient care, educ
 ation, awareness, and support for people battling cancer and those who
  love them. \n\nFor more information visit https://vbnightlife.com/ev
 ents/happy-hour-to-benefit-the-leukemia-and-lymphoma-society
DTSTART:20120423T200000Z
DTEND:20120424T010000Z
CATEGORIES:fundraiser
LOCATION:Ole! Restaurante Mexicano
WEBSITE:
URL:
CONTACT:
ORGANIZER;CN="Leigh Ann Conselyea Raab":https://vbnightlife.com/profil
 e/LeighAnnConselyeaRaab
ATTACH;FMTTYPE="image/jpeg":
ATTENDEE;ROLE=REQ-PARTICIPANT;PARTSTAT=ACCEPTED;RSVP=TRUE;CN="Leigh An
 n Conselyea Raab":https://vbnightlife.com/profile/LeighAnnConselyeaRaa
 b
END:VEVENT
END:VCALENDAR
