BEGIN:VCALENDAR
PRODID:NingEventWidget-v1
VERSION:2.0
METHOD:PUBLISH
BEGIN:VEVENT
UID:2508951:Event:9906
DTSTAMP:20260425T142435Z
SUMMARY:HAPPY HOUR @ SHOREBREAK
DESCRIPTION:happy hour 4 to 630 and free pool\n\nFor more information 
 visit https://vbnightlife.com/events/happy-hour-shorebreak
DTSTART:20090406T200000Z
DTEND:20090406T223000Z
CATEGORIES:happy, hour
LOCATION:Shorebreak
WEBSITE:
URL:
CONTACT:
ORGANIZER:Shorebreak
ATTACH;FMTTYPE="image/jpeg":http://storage.ning.com/topology/rest/1.0/
 file/get/1664070362?profile=original
ATTENDEE;ROLE=REQ-PARTICIPANT;PARTSTAT=ACCEPTED;RSVP=TRUE;CN="Nicole M
 axino":https://vbnightlife.com/profile/NicoleMaxino
END:VEVENT
END:VCALENDAR
