BEGIN:VCALENDAR
PRODID:NingEventWidget-v1
VERSION:2.0
METHOD:PUBLISH
BEGIN:VEVENT
UID:2508951:Event:11533
DTSTAMP:20260425T185226Z
SUMMARY:HAPPY HOUR @ SHOREBREAK
DESCRIPTION:HAPPY HOUR 4 TO 630 MON THRU FRI.. FREE POOL AND $2.50 DRI
 NKS.\n\nFor more information visit https://vbnightlife.com/events/happ
 y-hour-shorebreak-1
DTSTART:20090504T040000Z
DTEND:20090505T035900Z
CATEGORIES:happy, hour
LOCATION:Shorebreak
WEBSITE:
URL:
CONTACT:
ORGANIZER:Shorebreak
ATTACH;FMTTYPE="image/jpeg":http://storage.ning.com/topology/rest/1.0/
 file/get/1664070595?profile=original
ATTENDEE;ROLE=REQ-PARTICIPANT;PARTSTAT=ACCEPTED;RSVP=TRUE;CN="Nicole M
 axino":https://vbnightlife.com/profile/NicoleMaxino
END:VEVENT
END:VCALENDAR
