BEGIN:VCALENDAR
PRODID:NingEventWidget-v1
VERSION:2.0
METHOD:PUBLISH
BEGIN:VEVENT
UID:2508951:Event:10310
DTSTAMP:20260425T160249Z
SUMMARY:HAPPY HOUR @ HAVANA
DESCRIPTION:HAPPY HOUR 5-7 MONDAY THRU FRIDAY\n\n$2 OFF APPETIZERS\n(E
 XCLUDES TAPAS ITEMS AND SPECIALS)\n\nFor more information visit https:
 //vbnightlife.com/events/happy-hour-havana
DTSTART:20090402T210000Z
DTEND:20090402T230000Z
CATEGORIES:happy, hour
LOCATION:Havana Great Neck
WEBSITE:
URL:
CONTACT:
ORGANIZER:Havana
ATTACH;FMTTYPE="image/jpeg":http://storage.ning.com/topology/rest/1.0/
 file/get/1664072094?profile=original
ATTENDEE;ROLE=REQ-PARTICIPANT;PARTSTAT=ACCEPTED;RSVP=TRUE;CN="Nicole M
 axino":https://vbnightlife.com/profile/NicoleMaxino
END:VEVENT
END:VCALENDAR
