BEGIN:VCALENDAR
PRODID:NingEventWidget-v1
VERSION:2.0
METHOD:PUBLISH
BEGIN:VEVENT
UID:2508951:Event:10223
DTSTAMP:20260425T160047Z
SUMMARY:HAPPY HOUR @ CROCS
DESCRIPTION:- FRIDAY AFTER WORK DECK PARTY\n\nEvery Friday afternoon,\
 nfrom 4pm to 9pm, celebrate\nthe end of the week with $1.00 bar drinks
 !!\n\nFor more information visit https://vbnightlife.com/events/happy-
 hour-crocs
DTSTART:20090403T200000Z
DTEND:20090404T010000Z
CATEGORIES:happy, hour
LOCATION:Crocs
WEBSITE:
URL:
CONTACT:
ORGANIZER:Crocs
ATTACH;FMTTYPE="image/jpeg":http://storage.ning.com/topology/rest/1.0/
 file/get/1664072819?profile=original
ATTENDEE;ROLE=REQ-PARTICIPANT;PARTSTAT=ACCEPTED;RSVP=TRUE;CN="Nicole M
 axino":https://vbnightlife.com/profile/NicoleMaxino
END:VEVENT
END:VCALENDAR
