BEGIN:VCALENDAR
PRODID:NingEventWidget-v1
VERSION:2.0
METHOD:PUBLISH
BEGIN:VEVENT
UID:2508951:Event:13493
DTSTAMP:20260425T142710Z
SUMMARY:HAPPY HOUR @CHICHOS 21ST AND ATLANTIC
DESCRIPTION:$3 red bull vodka drinks all night happy hour 6-9 $2 domes
 tics and wells get out and see why tuesday is fat with mike and Russel
 \n\nFor more information visit https://vbnightlife.com/events/happy-ho
 ur-chichos-21st-and-1
DTSTART:20090512T220000Z
DTEND:20090513T010000Z
CATEGORIES:happy, hour
LOCATION:Chichos
WEBSITE:
URL:
CONTACT:
ORGANIZER:chichos
ATTACH;FMTTYPE="image/jpeg":http://storage.ning.com/topology/rest/1.0/
 file/get/1664073052?profile=original
ATTENDEE;ROLE=REQ-PARTICIPANT;PARTSTAT=ACCEPTED;RSVP=TRUE;CN="Nicole M
 axino":https://vbnightlife.com/profile/NicoleMaxino
END:VEVENT
END:VCALENDAR
