BEGIN:VCALENDAR
PRODID:NingEventWidget-v1
VERSION:2.0
METHOD:PUBLISH
BEGIN:VEVENT
UID:2508951:Event:10041
DTSTAMP:20260425T160151Z
SUMMARY:HAPPY HOUR @ CABO
DESCRIPTION:$2 Domestics, $3 you-call-its until 9PM. Monday and Wednes
 day AYCE Crab legs and Shrimp. Tuesday 25 Cent Wings.\n\nFor more info
 rmation visit https://vbnightlife.com/events/happy-hour-cabo-1
DTSTART:20090512T210000Z
DTEND:20090513T010000Z
CATEGORIES:happy, hour
LOCATION:Cabo
WEBSITE:
URL:
CONTACT:
ORGANIZER:Cabo
ATTACH;FMTTYPE="image/jpeg":http://storage.ning.com/topology/rest/1.0/
 file/get/1664070167?profile=original
ATTENDEE;ROLE=REQ-PARTICIPANT;PARTSTAT=ACCEPTED;RSVP=TRUE;CN="Nicole M
 axino":https://vbnightlife.com/profile/NicoleMaxino
END:VEVENT
END:VCALENDAR
