BEGIN:VCALENDAR
PRODID:NingEventWidget-v1
VERSION:2.0
METHOD:PUBLISH
BEGIN:VEVENT
UID:2508951:Event:101718
DTSTAMP:20260423T133347Z
SUMMARY:HAPPY HOUR AT THE SURF CLUB THEN CARBON JAM AT 11TH STREET TAP
 HOUSE!
DESCRIPTION:Happy Hour at the Surf Club Ocean Grille in the Wyndham Ho
 tel from 6 to 9 with these special drink prices and 57cent appetizers:
 \nDRINK SPECIALS!!!!\n2 dollar beers\n3 dollar well drinks\n3 dollar w
 ine\n4 dollar mojhito\n5 dollar martinis\n\n.57 ea. appetizers:\nBrazi
 lian style baby back ribs\nVirginia Oysters on the half shell\nFire W
 ings\nFish Tacos\nTuna Sliders\nSnow Crab Legs\n \nCarbon Jam rolled 
 into Virginia Beach in 2008 with a lively, diverse mix of classic rock
 , jam, blues, and reggae. The music is crisp, driving and dynamic! ...
 .and scrumptious.\n \nThey are extremely talented young group and wha
 t a show they put on for the crowd.  You have to see them to believe 
 it!\n \n\nFor more information visit https://vbnightlife.com/events/h
 appy-hour-at-the-surf-club
DTSTART:20110408T220000Z
DTEND:20110409T030000Z
CATEGORIES:happy, hour, band
LOCATION:SURF CLUB OCEAN GRILLE & 11TH STREET TAPHOUSE
WEBSITE:
URL:
CONTACT:
ORGANIZER;CN="VBnightlife.com":https://vbnightlife.com/profile/admin
ATTACH;FMTTYPE="image/jpeg":http://storage.ning.com/topology/rest/1.0/
 file/get/1664135866?profile=original
ATTENDEE;ROLE=REQ-PARTICIPANT;PARTSTAT=ACCEPTED;RSVP=TRUE;CN="ed kocsi
 s":https://vbnightlife.com/profile/edkocsis
ATTENDEE;ROLE=REQ-PARTICIPANT;PARTSTAT=ACCEPTED;RSVP=TRUE;CN="VBnightl
 ife.com":https://vbnightlife.com/profile/admin
END:VEVENT
END:VCALENDAR
