BEGIN:VCALENDAR
PRODID:NingEventWidget-v1
VERSION:2.0
METHOD:PUBLISH
BEGIN:VEVENT
UID:2508951:Event:207376
DTSTAMP:20260420T234621Z
SUMMARY:DAILY HAPPY HOUR SPECIALS AT 37 NORTH
DESCRIPTION:\n\nFor more information visit https://vbnightlife.com/eve
 nts/happy-hour-at-37-north
DTSTART:20130228T220000Z
DTEND:20130301T003000Z
CATEGORIES:"happy hour", vbnightlife
LOCATION:37 NORTH RESTAURANT AND LOUNGE
WEBSITE:http://thirty7north.com/
URL:http://thirty7north.com/
CONTACT:
ORGANIZER;CN="Thirty Seven North":https://vbnightlife.com/profile/Thir
 tySevenNorth
ATTACH;FMTTYPE="image/jpeg":http://storage.ning.com/topology/rest/1.0/
 file/get/1664183900?profile=original
ATTENDEE;ROLE=REQ-PARTICIPANT;PARTSTAT=ACCEPTED;RSVP=TRUE;CN="Thirty S
 even North":https://vbnightlife.com/profile/ThirtySevenNorth
END:VEVENT
END:VCALENDAR
