BEGIN:VCALENDAR
PRODID:NingEventWidget-v1
VERSION:2.0
METHOD:PUBLISH
BEGIN:VEVENT
UID:2508951:Event:12338
DTSTAMP:20260425T160154Z
SUMMARY:HAPPY CINCO DE MAYO                                          c
 lick here for TUESDAY'S BAND / EVENTS LISTING
DESCRIPTION:Abbey Road - VB - OPEN STAGE /\"KARL WERNE\nCatch 31 - TUM
 BAO SALSERO\" (Cinco Party)\nChichos - HAPPY HOUR\nCozumel - BUTTER\nG
 reenies - BADDADZ\nLunasea - VB \"JESSE CHONG\nMurphy's Irish Pub - CE
 ANN\nNorva - Norfolk \"HINDER, BLACK STONE CHERRY & THE VEER UNION\nSc
 otty quixx - NATURE'S CHILD\n\nFor more information visit https://vbni
 ghtlife.com/events/happy-cinco-de-mayo
DTSTART:20090505T040000Z
DTEND:20090506T035900Z
CATEGORIES:band, dj
LOCATION:Virginia Beach / Norfolk
WEBSITE:
URL:
CONTACT:
ORGANIZER;CN="Nicole Maxino":https://vbnightlife.com/profile/NicoleMax
 ino
ATTACH;FMTTYPE="image/jpeg":http://storage.ning.com/topology/rest/1.0/
 file/get/1664074473?profile=original
ATTENDEE;ROLE=REQ-PARTICIPANT;PARTSTAT=ACCEPTED;RSVP=TRUE;CN="Nicole M
 axino":https://vbnightlife.com/profile/NicoleMaxino
END:VEVENT
END:VCALENDAR
