BEGIN:VCALENDAR
PRODID:NingEventWidget-v1
VERSION:2.0
METHOD:PUBLISH
BEGIN:VEVENT
UID:2508951:Event:24175
DTSTAMP:20260422T044212Z
SUMMARY:HALLOWEEN PARTY LIST - FRIDAY NIGHT
DESCRIPTION:MONSTER MASH HALLOWEEN PARTY @ THE WYNDHAM SPONSORED BY TH
 E SETON YOUTH SHELTERS\nFor details click here:\nhttp://www.vbnightlif
 e.com/events/monster-mash-seton-youth\nPerformance DJs WIZARD OF SOUND
 \n8-MIDNIGHT\n$60 PER PERSON\nIncludes beverages, decadent dining, cos
 tume contest, dancingand more for tickets call 757 963 5795 x102\n\nHA
 LLOWEEN PARTY @ THE ATTIC - WATERMANS\n5th Street and Atlantic\nCome o
 ut and wear your best costume!! Attic is having the best Halloween Par
 ty this year with DJ the DJ spinnin all night!\nCome down to the beach
  ready to shake your candy!\n\nBIRTHDAY party for Katie Jaunzems / HAL
 LOWEEN @ FRESH TAPAS AND TONICS IN THE STRAWBRIDGE MARKET PLACE featur
 ing Dave, Kate and Ross\nYou Dont have to dress up to come. It's just 
 for fun and prizes :-)\nHalloween Costume Party\nDrink Specials & Live
  Music\nWin a gift certificate From Fresh Tapas & Tonics\nMaria is giv
 ing the top costume winners:\n1st place -$100.00\n2nd place-$5o.oo\n3r
 d place-$25.oo\nPlease RSVP by 10/28/09 so we can get a head count!\nW
 e look forward to seeing everyone!!!\nhttp://www.freshtapasntonics.com
 /\n8PM TO 12AM\n\nJILLIAN'S MASQUERADE PARTY @ NORFOLK WATERSIDE\nCLUB
  MOJOs AND The Tau Lambda Chapter of OMEGA PSI PHI FRATERNITY INC. ARE
  BRINGING YOU \"THE MASΩRADE\".\nONCE AGAIN JILLIAN'S NORFOLK IS TEAM
 ING UP WITH ANOTHER HUGE GREEK ORGANIZATION TO BRING YOU YET ANOTHER B
 IG PARTY OF THE YEAR.\nA NIGHT FILLED WITH MYSTERY, FUN, AND EXCITEMEN
 T.\nDOORS OPEN AT 9PM AND THE VENUE WILL SELL OUT QUICKLY. DRESSCODE W
 ILL BE STRICTLY ENFORCED.\nLADIES 18+ GUYS 18-20 MUST HAVE A VALID MIL
 ITARY OR COLLEGE I.D. CALL 757.624.9100 OR TEXT 757.469.6052 FOR MORE 
 INFORMATION.\nV.I.P. TABLE SERVICE IS AVAILABLE.\nMUSIC PROVIDED BY DJ
  DOP3Y.\n\nTHE NORVA friday october 30 ALL HALLOWS EVE\nTickets on sal
 e @ ticketmaster.com\nkellys backstage cafe\nthe official norva web si
 te\nand also from any of the following bands:\nDIRTY ROCK\nTHE SOUTHER
 N IMPACT BAND\nTHE REFORM SCHOOL DROPOUTS\nTHE DUNES\nTHE BLACK POWDER
  BAND\nCall for tixx - Mike 757 338 5858 its a halloween show so dress
 -up ** due to ID reasons NO MASKS and NO FACE PAINT or you cant drink*
 *\nAdmission: $10.00\nDoors open at 6:00pm Show starts at 6:30pm\nEven
 t location:\nThe NorVa\n317 Monticello Avenue\nNorfolk VA 23510\n(757)
  627-4547\n\nTAPHOUSE IN GHENT - THE MUCKRAKES LIVE - Costumery Encour
 aged\nAdmission: $5\n10:00pm\nEvent location:\nTaphouse Grill - Ghent\
 n931 W 21st St\nNorfolk VA, 23517\nMore contact info:\nPhone: (757) 62
 7-9172\nThe Muckrakes celebrate Halloween at The Taphouse with one of 
 THE BIGGEST, BADDEST, SCARIEST night of the year!! C'mon out FRIDAY, O
 ctober 30th at 10PM for the show of the year with The Muckrakes! Plus 
 it's THE MUCKRAKES' BIRTHDAY as well as our bassist, Billy's birthday,
  so ya know things are gonna be off the hook!\n\nTANNER'S CREEK HALLOW
 EEN BASH\nEvil Means, Construkt, and Oedipus Rex will be preforming\nT
 his is an 18 and up event. Come on out and rock out with three great l
 ive bands, the best food, and halloween fun!\nTanner's Creek 5103 Coll
 ey Ave, Norfolk, VA, 23508\nMap data ©2009 Google - Terms of Use\nAdm
 ission: $3 three bucks for three bands\n10PM\nEvent location:\nTanner'
 s Creek\n5103 Colley Ave\nNorfolk VA, 23508\n757-423-2430\n\nTHE HERIT
 AGE PRESENTS DEVILICIOUS HALLOWEEN BASH2009\nPrizes for: Scariest Cost
 ume, Most Original, Funniest Costume\nBelly Dancing\nWine Tasting\nLiv
 e music: Dave Johnson, Ed Kessler, Dancy Burrows, Freudian\nSplit and 
 more\nGypsy Fortune Tellers\nRaffle\nGood Food - Bring a covered dish 
 to pass\nALL FREE & OPEN to all Heritage employees and customers!\n\nI
 F YOU KNOW OF ANY PARTIES WE HAVEN'T LISTED PLEASE EMAIL nicole@VBnigh
 tlife.com\n\nFor more information visit https://vbnightlife.com/events
 /halloween-party-list-friday
DTSTART:20091030T040000Z
DTEND:20091031T035900Z
CATEGORIES:halloween
LOCATION:Virginia Beach / Norfolk
WEBSITE:
URL:
CONTACT:
ORGANIZER;CN="VBnightlife.com":https://vbnightlife.com/profile/admin
ATTACH;FMTTYPE="image/jpeg":http://storage.ning.com/topology/rest/1.0/
 file/get/1664090756?profile=original
ATTENDEE;ROLE=REQ-PARTICIPANT;PARTSTAT=ACCEPTED;RSVP=TRUE;CN="Yvette B
 erry":https://vbnightlife.com/profile/YvetteBerry
ATTENDEE;ROLE=REQ-PARTICIPANT;PARTSTAT=ACCEPTED;RSVP=TRUE;CN="VBnightl
 ife.com":https://vbnightlife.com/profile/admin
END:VEVENT
END:VCALENDAR
