BEGIN:VCALENDAR
PRODID:NingEventWidget-v1
VERSION:2.0
METHOD:PUBLISH
BEGIN:VEVENT
UID:2508951:Event:299238
DTSTAMP:20260422T091415Z
SUMMARY:HALLOWEEKEND AT THE ADVENTURE PARK!
DESCRIPTION:Halloweekend Nights!\nThursday, October 30th – Friday, O
 ctober 31st\nArgh Matey! A ghost ship will wash up on the shores of Ow
 ls Creek just in time for Halloween! Check out the 3 different nightly
  events from October 30th – November 1st! Advance tickets are availa
 ble for only $39/person at www.bookeo.com/climbvirginiabeach Reserve
  your 3-hour time slot today while they are still available!\n\nThursd
 ay October 30th: Halloween Party!\nAn unforgettable night of climbing,
  music, lights, and scary decorations! Guests are invited to wear thei
 r costumes – just be sure they are something you don’t mind climbi
 ng in \nFriday, October 31st: Fright Night!\nThe Scariest Night of th
 e Week, come climb and enjoy an awesome tree-top trick-or-treating alt
 ernative for all ages!\nCANCELLED DUE TO WEATHER Saturday, November 1s
 t: Family Fright Night!\nBring the whole family for an awesome night c
 limbing experience and enjoy spooky lights and decorations!\n \n CAN
 CELLED DUE TO IMPENDING WEATHER Halloweekend Days!\nSaturday November
  1st and Sunday November 2nd\nJoin our Scavenger Hunt Climb in The Lab
 yrinth Saturday, November 1 and Sunday, November 2.  Collect stamps l
 ocated at select platforms to decorate your paper Jack-o-Lantern.  Pr
 esent your Jack-o-Lantern to our Registration Yurt to chose your prize
  from our treasure chest.\nThe Labyrinth is a smaller-scale version of
  the Adventure Forest, complete with aerial bridges, ladders, and slid
 ing elements that connect tree-top platforms. The two-story climbing s
 tructure is perfect for ages 5-9 and adults who want to share the adve
 nture. Climbers have the freedom to choose their own path and the brid
 ges that are right for them. Monitors are on hand to assist climbers a
 s needed. Labyrinth tickets are valid for 90 minutes of climbing.\nTi
 ckets are available online, in advance for $20/person at www.bookeo.c
 om/climbvirginiabeach. Follow the link and Select “Labyrinth” to s
 tart reserving your spot!\nTickets at the door will be $25/person (or 
 $22 for Aquarium members).\n\n\n\n\nFor more information visit https:/
 /vbnightlife.com/events/halloweekend-at-the-adventure-park
DTSTART:20141101T040000Z
DTEND:20141102T035900Z
CATEGORIES:"adventure park", "things to do in virginia beach", "events
  in virginia beach"
LOCATION:Adventure Park at the Virginia Aquarium
WEBSITE:
URL:
CONTACT:
ORGANIZER:VBnightlife.com / VBdaylife.com
ATTACH;FMTTYPE="image/jpeg":http://storage.ning.com/topology/rest/1.0/
 file/get/1664250415?profile=original
ATTENDEE;ROLE=REQ-PARTICIPANT;PARTSTAT=ACCEPTED;RSVP=TRUE;CN="VBnightl
 ife.com":https://vbnightlife.com/profile/admin
END:VEVENT
END:VCALENDAR
