BEGIN:VCALENDAR
PRODID:NingEventWidget-v1
VERSION:2.0
METHOD:PUBLISH
BEGIN:VEVENT
UID:2508951:Event:194446
DTSTAMP:20260422T012811Z
SUMMARY:Half Moon Spring Festival w/ Let'sEAT ON The Go Food Trucks!
DESCRIPTION:\n\nSaturday, April 28, 2012\n\n\n11:00am until 8:00pm\n\n
 \n\n\n\n\nCorner of 16th & Pacific!, 305 16th Street\n\n\n\n\n\n\n\nLe
 t'sEAT On The Go's Mobile Food RV Launch, Good 2 Good Burgers & more. 
 LIVE Music & Local Artisans! Join Us @ Half Moon for a day of fun!\n\n
 \n\n\n\n\nFor more information visit https://vbnightlife.com/events/ha
 lf-moon-spring-festival-w-let-seat-on-the-go-food-trucks
DTSTART:20120428T150000Z
DTEND:20120429T000000Z
CATEGORIES:spring, festival
LOCATION:305 16th St. - Virginia Beach
WEBSITE:
URL:
CONTACT:
ORGANIZER;CN="Let'sEAT On The Go":https://vbnightlife.com/profile/Lets
 EATOnTheGo
ATTACH;FMTTYPE="image/jpeg":http://storage.ning.com/topology/rest/1.0/
 file/get/1664167386?profile=original
ATTENDEE;ROLE=REQ-PARTICIPANT;PARTSTAT=ACCEPTED;RSVP=TRUE;CN="Let'sEAT
  On The Go":https://vbnightlife.com/profile/LetsEATOnTheGo
END:VEVENT
END:VCALENDAR
