BEGIN:VCALENDAR
PRODID:NingEventWidget-v1
VERSION:2.0
METHOD:PUBLISH
BEGIN:VEVENT
UID:2508951:Event:215178
DTSTAMP:20260424T100448Z
SUMMARY:Guiding Eyes for the Blind Wine Tasting Fundraiser
DESCRIPTION: \n Guiding Eyes for the Blind is hosting a wine tasting 
 fundraiser at Total Wine at Hilltop on Sunday evening April 7th.  It 
 should be a really fun night as we have two graduates of Guiding Eyes 
 for the Blind and their guide dogs coming down from New York on the tr
 ain just for this special event! One of these special guests is a somm
 elier. Her name is Amy Dixon. Click this link to hear Amy tell her ama
 zing story. http://youtu.be/D-uujOICoTc\n  \n The other guest is an 
 R&B/soul singer songwriter. His name is Blessing Offor and he will be 
 performing for us that night. Maybe some of you remember him as a cont
 estant on Platinum Hit on Bravo television. He is a frequent performer
  at the Kennedy Center. Check out the website for a short bio on Bless
 ing and watch a past performance. http://www.kennedy-center.org/explo
 rer/artists/?entity_id=12939&source_type=B\n  \n Tickets for the fund
 raiser are $25 each and can be purchased by emailing Jocey Pritchard a
 t jipritchard@cox.net. All proceeds go to benefit the Virginia Beach 
 Region of Guiding Eyes for the Blind. Please email today. Don’t miss
  the chance to meet our special guests and support our organization at
  the same time!\n\n\nFor more information visit https://vbnightlife.co
 m/events/guiding-eyes-for-the-blind-wine-tasting-fundraiser
DTSTART:20130407T230000Z
DTEND:20130408T010000Z
CATEGORIES:"guiding eyes", "wine tasting", vbdaylife, vbnightlife
LOCATION:Total Wine- Virginia Beach
WEBSITE:
URL:
CONTACT:(757) 428-6998
ORGANIZER;CN="VBnightlife.com":https://vbnightlife.com/profile/admin
ATTACH;FMTTYPE="image/jpeg":http://storage.ning.com/topology/rest/1.0/
 file/get/1664194320?profile=original
ATTENDEE;ROLE=REQ-PARTICIPANT;PARTSTAT=ACCEPTED;RSVP=TRUE;CN="Rolan St
 ears":https://vbnightlife.com/profile/RolanStears
ATTENDEE;ROLE=REQ-PARTICIPANT;PARTSTAT=ACCEPTED;RSVP=TRUE;CN="VBnightl
 ife.com":https://vbnightlife.com/profile/admin
END:VEVENT
END:VCALENDAR
