BEGIN:VCALENDAR
PRODID:NingEventWidget-v1
VERSION:2.0
METHOD:PUBLISH
BEGIN:VEVENT
UID:2508951:Event:78889
DTSTAMP:20260420T090535Z
SUMMARY:Greenie's - featuring Doug Dunn and Steel River
DESCRIPTION:Come on out to Greenie's and celebrate your St Patricks D
 ay with Doug Dunn and Steel River!\n\nFor more information visit https
 ://vbnightlife.com/events/greenies-featuring-doug-dunn
DTSTART:20110318T000000Z
DTEND:20110318T040000Z
CATEGORIES:st, patricks, day, event
LOCATION:Greenie's
WEBSITE:
URL:
CONTACT:
ORGANIZER:Doug Dunn and Steel River
ATTACH;FMTTYPE="image/jpeg":http://storage.ning.com/topology/rest/1.0/
 file/get/1664132436?profile=original
ATTENDEE;ROLE=REQ-PARTICIPANT;PARTSTAT=ACCEPTED;RSVP=TRUE;CN="Rolan St
 ears":https://vbnightlife.com/profile/RolanStears
ATTENDEE;ROLE=REQ-PARTICIPANT;PARTSTAT=ACCEPTED;RSVP=TRUE;CN="Lynda Do
 ran Zimmerly":https://vbnightlife.com/profile/LyndaDoranZimmerly
END:VEVENT
END:VCALENDAR
