BEGIN:VCALENDAR
PRODID:NingEventWidget-v1
VERSION:2.0
METHOD:PUBLISH
BEGIN:VEVENT
UID:2508951:Event:154731
DTSTAMP:20260423T225440Z
SUMMARY:Great Dane Rescue Of the Commonwealth Adopt-A-Thon
DESCRIPTION:\nCome out Saturday July 16th for a meet and greet with Co
 mmonwealth Great Dane Rescue and maybe take a Great Dane home with you
 !!! These are great dog that have no home and could sure use one, Plea
 se come adopt one if you can!!!\n\n\n\n\n\n\n\n\n\n\n\n\n\nFor more in
 formation visit https://vbnightlife.com/events/great-dane-rescue-of-th
 e
DTSTART:20110716T140000Z
DTEND:20110716T170000Z
CATEGORIES:fundraiser
LOCATION:Motley Mutts
WEBSITE:
URL:
CONTACT:
ORGANIZER:VBnightlife.com / VBdaylife.com
ATTACH;FMTTYPE="image/jpeg":http://storage.ning.com/topology/rest/1.0/
 file/get/1664145520?profile=original
ATTENDEE;ROLE=REQ-PARTICIPANT;PARTSTAT=ACCEPTED;RSVP=TRUE;CN="VBnightl
 ife.com":https://vbnightlife.com/profile/admin
END:VEVENT
END:VCALENDAR
