BEGIN:VCALENDAR
PRODID:NingEventWidget-v1
VERSION:2.0
METHOD:PUBLISH
BEGIN:VEVENT
UID:2508951:Event:44115
DTSTAMP:20260420T002126Z
SUMMARY:Gosport Tavern
DESCRIPTION:Acoustic Gig\n\nFor more information visit https://vbnight
 life.com/events/gosport-tavern-3
DTSTART:20101017T013000Z
DTEND:20101017T053000Z
CATEGORIES:acoustic, gig
LOCATION:Gosport Tavern
WEBSITE:
URL:
CONTACT:
ORGANIZER;CN="Brent Shepard":https://vbnightlife.com/profile/BrentShep
 ard
ATTACH;FMTTYPE="image/jpeg":
ATTENDEE;ROLE=REQ-PARTICIPANT;PARTSTAT=ACCEPTED;RSVP=TRUE;CN="Brent Sh
 epard":https://vbnightlife.com/profile/BrentShepard
END:VEVENT
END:VCALENDAR
