BEGIN:VCALENDAR
PRODID:NingEventWidget-v1
VERSION:2.0
METHOD:PUBLISH
BEGIN:VEVENT
UID:2508951:Event:200850
DTSTAMP:20260422T224400Z
SUMMARY:GOOSEBUMPS
DESCRIPTION:This will for sure be the best edm/dub step party VA Beach
  has ever had. Featuring DJ PITCH from Baltimore, DJ AC, DJ DUCKET$, D
 J JORDANK AND DJ SHIFTING GRAVITY!\n\nFor more information visit https
 ://vbnightlife.com/events/goosebumps
DTSTART:20120714T020000Z
DTEND:20120714T060000Z
CATEGORIES:"edm/dubstep", dance, party
LOCATION:SHAKAS virgina beach
WEBSITE:
URL:
CONTACT:
ORGANIZER:V.B.M.C.
ATTACH;FMTTYPE="image/jpeg":http://storage.ning.com/topology/rest/1.0/
 file/get/1664177550?profile=original
ATTENDEE;ROLE=REQ-PARTICIPANT;PARTSTAT=ACCEPTED;RSVP=TRUE;CN="Kevin Di
 ehl":https://vbnightlife.com/profile/KevinDiehl
END:VEVENT
END:VCALENDAR
