BEGIN:VCALENDAR
PRODID:NingEventWidget-v1
VERSION:2.0
METHOD:PUBLISH
BEGIN:VEVENT
UID:2508951:Event:322818
DTSTAMP:20260423T112708Z
SUMMARY:GLOW IN THE PARK AT THE ADVENTURE PARK AT THE VIRGINIA AQUARIU
 M
DESCRIPTION:\n\n\nGlow in the Park!\nDecember 18 & 19 and January 1st
  & 2nd; 4pm to 9pm\nClimb, Swing & Zip Line through the Lighted Trail
 s!   Join us for a night of lights, live music and climbing fun, with
  a live DJ\n\nTickets online here: climbvb.com/tickets\n\nPlease call
  our office with any questions! (757) 385-4947.\n \n\n\n\n\n\n\nFor m
 ore information visit https://vbnightlife.com/events/glow-in-the-park-
 at-the-adventure-park-at-the-virginia-aquarium-6
DTSTART:20160101T210000Z
DTEND:20160103T020000Z
CATEGORIES:"virginia beach", "virginia beach nightlife", "virginia bea
 ch things to do", "virginia beach entertainment"
LOCATION:ADVENTURE PARK AT THE VIRGINIA AQUARIUM
WEBSITE:
URL:
CONTACT:757) 385-4947
ORGANIZER:VBnightlife.com / vbdaylife
ATTACH;FMTTYPE="image/jpeg":http://storage.ning.com/topology/rest/1.0/
 file/get/1664274019?profile=original
ATTENDEE;ROLE=REQ-PARTICIPANT;PARTSTAT=ACCEPTED;RSVP=TRUE;CN="VBnightl
 ife.com":https://vbnightlife.com/profile/admin
END:VEVENT
END:VCALENDAR
