BEGIN:VCALENDAR
PRODID:NingEventWidget-v1
VERSION:2.0
METHOD:PUBLISH
BEGIN:VEVENT
UID:2508951:Event:209048
DTSTAMP:20260423T133251Z
SUMMARY:Glazenfyre Singles Social Hour
DESCRIPTION:Tired of the club scene on a Friday night? Are you single?
 \nGlazenfyre pottery has some unique pieces to paint from the sports f
 anatic to the animal lover.\nPaint something special for yourself or p
 ick a piece as a gift for a birthday, an anniversary or Christmas\nThe
 re's something for everyone!\n$11 entry fee/painting piece not include
 d\nYou are welcome to come and just socialize, eat and listen to music
  you do not have to paint. But you're already going to be there so...W
 hat the heck, right?\n*NOTE: Please feel free to bring a food item to 
 share with the group.\n\nFor more information visit https://vbnightlif
 e.com/events/glazenfyre-singles-social-hour
DTSTART:20121130T230000Z
DTEND:20121201T020000Z
CATEGORIES:singles, nightlife
LOCATION:Glazenfyre Greenbrier Shoppes, 501 Kempsville Rd, Chesapeake,
  VA
WEBSITE:
URL:
CONTACT:
ORGANIZER;CN="Alasha Bennett":https://vbnightlife.com/profile/AlashaBe
 nnett
ATTACH;FMTTYPE="image/jpeg":
ATTENDEE;ROLE=REQ-PARTICIPANT;PARTSTAT=ACCEPTED;RSVP=TRUE;CN="Rolan St
 ears":https://vbnightlife.com/profile/RolanStears
ATTENDEE;ROLE=REQ-PARTICIPANT;PARTSTAT=ACCEPTED;RSVP=TRUE;CN="Alasha B
 ennett":https://vbnightlife.com/profile/AlashaBennett
END:VEVENT
END:VCALENDAR
