BEGIN:VCALENDAR
PRODID:NingEventWidget-v1
VERSION:2.0
METHOD:PUBLISH
BEGIN:VEVENT
UID:2508951:Event:320734
DTSTAMP:20260422T164200Z
SUMMARY:Giving Party - Benefit for Samaritan House
DESCRIPTION:Please join us Sunday December 6th for a Giving Party!!! T
 here are so many men, women and children going without through the hol
 iday season and every little bit helps. Not to mention, the joy that f
 ills your heart to know that you played a part in helping to make some
 one elses Christmas a little brighter!!\n\nMany local establishments, 
 small business and members of the community have donated gift certific
 ates, homemade goods and really cool gifts for the Raffle!!!‼️\nLi
 ve Music!!!!\nCome eat, drink and win some prizes!!!\n100% of donation
 s will go to the Samaritan House. 'Tis the season and even the smalles
 t bit helps so please SHARE this event and come!!!!\nHere is some info
  about Samaritan House-\nSamaritan House is Hampton Roads’ trusted d
 omestic violence resource offering services to stop violence with educ
 ation and training, safety planning and court assistance; and services
  to heal violence with counseling, support groups, children’s progra
 ms and more. Samaritan House is Virginia's largest emergency housing p
 rovider serving the community since 1984. Samaritan House is committed
  to fostering personal safety, growth and self-sufficiency in adults a
 nd their children through the freedom from domestic abuse and homeless
 ness.\nSince 1984, Samaritan House has provided emergency housing, tra
 nsitional housing, and community outreach to victims of domestic viole
 nce and homeless families. We operate 11 emergency shelter houses, 10 
 transitional housing units, and 27 affordable apartment units. In our 
 emergency and transitional programs we shelter about 110 people per ni
 ght as well as providing affordable housing at fair market value Our c
 hildren’s program works with our youth (approximately 65% of the peo
 ple we serve) to establish healthy relationships, build self-confidenc
 e, increase academic performance, and ultimately break the cycles of v
 iolence and homelessness. Items we need the most right now are:\nPillo
 ws\nLinens\nTowels\nWarm Clothes\nCoats\nCountertop appliances\nMoney 
 for client Services \n\n\n\nFor more information visit https://vbnigh
 tlife.com/events/giving-party-benefit-for-samaritan-house
DTSTART:20151206T170000Z
DTEND:20151206T210000Z
CATEGORIES:"fundraiser in virginia beach", "virginia beach events", "t
 hings to do in virginia beach"
LOCATION:JageR's Beach Bar and Grill
WEBSITE:
URL:
CONTACT:
ORGANIZER:VBnightlife.com / Samaritan House
ATTACH;FMTTYPE="image/jpeg":http://storage.ning.com/topology/rest/1.0/
 file/get/1664297739?profile=original
ATTENDEE;ROLE=REQ-PARTICIPANT;PARTSTAT=ACCEPTED;RSVP=TRUE;CN="VBnightl
 ife.com":https://vbnightlife.com/profile/admin
END:VEVENT
END:VCALENDAR
