BEGIN:VCALENDAR
PRODID:NingEventWidget-v1
VERSION:2.0
METHOD:PUBLISH
BEGIN:VEVENT
UID:2508951:Event:316916
DTSTAMP:20260424T105016Z
SUMMARY:TONIGHT! GIVE BACK THURSDAYS at The Pearl Club - After Work So
 cial - Live Music with Brandon Peter and FUNDRAISER FOR DOGS ON DEPLOY
 MENT
DESCRIPTION: Happy Hour & After Work Party TONIGHT - Live music with 
 Brandon Peter 5:30 to 8:30\n\nThe Pearl Club - 324 N. Great Neck Rd 
  - (757) 340-0004\n\nHappy Hour 4 to 8pm\nBuy One Get One 1/2 off Tap
 as and drink specials on Beer, Wine & Mixed Drinks  \n $3 Domestic & 
 Local Beer $6 Wine $4 Well Drinks  $4 Fireball\n\n\n\n \n  \nAbout 
 Dogs on Deployment:\nDogs on Deployment is a national 501(c)(3) non-pr
 ofit providing a central network for military members to find voluntee
 rs willing to board their pets while they are deployed or have other s
 ervice commitments, making them unable to temporarily care for their p
 ets. No pet should ever be surrendered to a shelter due to a military 
 commitment. DoD exists to help military members keep their pets by all
 eviating the need for pet relinquishment from military members due to 
 the hardships of deployments. \n\nDogs on Deployment aids pets of all
  types that belong to active duty, reservists, guard, honorably discha
 rged veterans and their families.\n\nFREE PHOTOSHOOT W/ PROFESSIONAL P
 HOTOGRAPHER\nAbout Brandon Peter: Brandon Peter has been playing in t
 he Hampton Roads for more than a decade. His distinctive and unique vo
 cal style and exceptional guitar playing has pleased a broad variety o
 f audiences. Brandon's diverse song selections range from classics of 
 the 60's to brand new hits of today.\n\n\n\n\n\n\n\n\nFor more informa
 tion visit https://vbnightlife.com/events/give-back-thursdays-at-the-p
 earl-club-after-work-social-live-musi
DTSTART:20151105T223000Z
DTEND:20151106T013000Z
CATEGORIES:"happy hour virginia beach", "live music virginia beach", "
 the pearl club virginia beach"
LOCATION:The Pearl Club
WEBSITE:http://324 N. Great Neck Road
URL:http://324 N. Great Neck Road
CONTACT:(757) 340-0004
ORGANIZER:The Pearl Club / VBnightlife
ATTACH;FMTTYPE="image/jpeg":http://storage.ning.com/topology/rest/1.0/
 file/get/1664290146?profile=original
ATTENDEE;ROLE=REQ-PARTICIPANT;PARTSTAT=ACCEPTED;RSVP=TRUE;CN="VBnightl
 ife.com":https://vbnightlife.com/profile/admin
END:VEVENT
END:VCALENDAR
