BEGIN:VCALENDAR
PRODID:NingEventWidget-v1
VERSION:2.0
METHOD:PUBLISH
BEGIN:VEVENT
UID:2508951:Event:182339
DTSTAMP:20260420T134320Z
SUMMARY:GET RICH CLICK
DESCRIPTION:As part of a book festival at the Jewish Community Center,
  ECPI University is sponsoring the author of the best selling book “
 Get Rich Click” as a speaker.  For students (with their ID) and JCC
  Members it will be $10 to attend and all others are $15.\n \n\nGet R
 ich Click!\n \n\nMarc Ostrofsky\n\nMarc Ostrofsky is a professional s
 peaker, consultant, venture capitalist, and serial entrepreneur. He is
  known as a “Technology Wildcatter,” founded the Prepaid Phone Ca
 rd industry and was an early pioneer in the Voice Mail Industry, Pay 
 Phone Industry, Prepaid Cellular Market and other deregulated telecomm
 unications markets. He created numerous magazines, trade shows and ma
 rket research studies and later sold those firms for $50 Million+.\n
 \nOstrofsky is known for selling the Internet domain name Business.co
 m for $7.5 million which landed in The Guinness Book of World Records
  as the most expensive domain name ever sold. He then invested in Bus
 iness.com which later sold for $345 Million. He is one of the few keyn
 ote speakers and authors that actually own a portfolio of highly profi
 table online business ventures.\n \nOstrofsky has been quoted in over
  1000 media outlets including ABC’s 20/20, The Today Show, The New 
 York Times, The Wall Street Journal, USA Today, CNN, FORBES and Inc. M
 agazine. His firms have won countless business awards including the I
 nc. 500 and the Ernst & Young “Entrepreneur of the Year” Award. H
 e is one of the leading experts on how to make money online and teache
 s businesses how to compete effectively in the new digital world.\n 
 \nOf Ostrofsky’s new book, Brian Tracy, New York Times bestselling a
 uthor and Management Expert says, “If you are going to survive, thr
 ive and grow in this interconnected world we now live in, you need to
  read Get Rich Click!\n \nclick here for more information and to purc
 hase tickets\nGET RICH CLICK!\nhttp://simonfamilyj.org/index.php?optio
 n=com_content&view=article&id=190\n \n\n\n\nFor more information visi
 t https://vbnightlife.com/events/get-rich-click
DTSTART:20111120T190000Z
DTEND:20111120T210000Z
CATEGORIES:educational
LOCATION:Simon Family JCC
WEBSITE:http://simonfamilyj.org
URL:http://simonfamilyj.org
CONTACT:(757) 489-1371
ORGANIZER:Simon Family JCC
ATTACH;FMTTYPE="image/jpeg":http://storage.ning.com/topology/rest/1.0/
 file/get/1664159271?profile=original
ATTENDEE;ROLE=REQ-PARTICIPANT;PARTSTAT=ACCEPTED;RSVP=TRUE;CN="VBnightl
 ife.com":https://vbnightlife.com/profile/admin
END:VEVENT
END:VCALENDAR
