BEGIN:VCALENDAR
PRODID:NingEventWidget-v1
VERSION:2.0
METHOD:PUBLISH
BEGIN:VEVENT
UID:2508951:Event:168338
DTSTAMP:20260423T174719Z
SUMMARY:GET MOTIVATED SEMINAR
DESCRIPTION:GET MOTIVATED SEMINAR\n\nEVENT TIMES\n\nTuesday, September
  6, 2011 at 9:00 AM\n\n\n\n\n\nFor more info regarding this event, inc
 luding how to register CLICK HERE.\nThe Get Motivated Seminar featuri
 ng America’s Mayor, Rudy Giuliani; World Famous Soldier-Statesman, G
 eneral Colin Powell; Former First Lady, Laura Bush; America’s Favori
 te Comedian, Bill Cosby is coming to the Ted Constant Convocation Cen
 ter. This day-long presentation will take place on Tuesday, September 
 6th, 2011 from 9:00 a.m. to 5:45 p.m.\nAdditional speakers will includ
 e Hall of Fame Quarterback, Terry Bradshaw; Renowned Notre Dame Head C
 oach, Lou Holtz; Acclaimed CEO of Southwest Airlines, Howard Putnam, L
 egendary President of Microsoft, Rick Belluzzo and Internationally Acc
 laimed Investing Expert, Mart Buffet plus other renowned teachers and 
 motivators.\nAmong the speakers' topics will be “Take-Charge Leaders
 hip” (Powell); “The Tenacity to Persevere: How to Make it Through 
 Any Crisis” (Giuliani); “How to Lead Your Team to Victory” (Terr
 y Bradshaw); “Humor at Work: The Secret Success Factor” (Cosby).\n
 An entire office of people can attend this seminar for a day of traini
 ng, inspiration and motivation that they will never forget!\nFor more 
 info CLICK HERE.\nTRAFFIC INFORMATION:\nIn anticipation of the Get Mo
 tivated Seminar coming to the Ted Constant Convocation Center, traffic
  will be a concern for those traveling to and from downtown Norfolk, P
 ortsmouth, and Hampton VA from the hours of 7am until 7pm. You can als
 o expect heavy volumes of traffic on Hampton Boulevard from downtown N
 orfolk to Norfolk Naval Base. Please execute additional caution during
  your commute and alert general public of the impact the event will ha
 ve on the area.\nIf attending Get Motivated at the Ted Constant Convoc
 ation Center, a limited amount of parking spaces will be available on 
 the campus of Old Dominion University in Garages C & D accessible via 
 41st Street and 45th Street. Other parking options include Harbor Park
  and Cedar Grove lots (Cedar Grove lot is located on the corner of Vir
 ginia Beach Boulevard and Monticello Ave) Free shuttle busses will be 
 available from both lots to and from The Constant Center from 6:30am u
 ntil 7:30pm. It is advised to please carpool, as well as arrive early 
 to avoid any issues caused by traffic congestion.\nA map of the two pa
 rking locations and more information can be found athttp://www.norfolk
 .gov/Parking/Map.asp\nFor more information please follow the Constant 
 Center on twitter at www.twitter.com/constancenter and facebook at www
 .facebook.com/tedconstantcenter as well as tune into your local news o
 utlet for real time traffic updates.\n\n\n\nFor more information visit
  https://vbnightlife.com/events/get-motivated-seminar
DTSTART:20110906T130000Z
DTEND:20110906T213000Z
CATEGORIES:special, event
LOCATION:TED CONSTANT CONVOCATION CENTER
WEBSITE:
URL:
CONTACT:
ORGANIZER:VBnightlife.com / VBdaylife / NorfolkNightlife
ATTACH;FMTTYPE="image/jpeg":http://storage.ning.com/topology/rest/1.0/
 file/get/1664148742?profile=original
ATTENDEE;ROLE=REQ-PARTICIPANT;PARTSTAT=ACCEPTED;RSVP=TRUE;CN="VBnightl
 ife.com":https://vbnightlife.com/profile/admin
END:VEVENT
END:VCALENDAR
