BEGIN:VCALENDAR
PRODID:NingEventWidget-v1
VERSION:2.0
METHOD:PUBLISH
BEGIN:VEVENT
UID:2508951:Event:284005
DTSTAMP:20260422T103931Z
SUMMARY:FREE DRINKS SPONSORED BY SVEDKA - VBNIGHTLIFE PARTY AT FUSION 
 RESTAURANT AND LOUNGE!
DESCRIPTION:Fusion Restaurant and Lounge would like to THANK US for br
 inging our Local's Night to their beautiful establishment. They have p
 artnered with Svedka Vodka to give us FREE \"SVEDKA\" DRINKS TO THE FI
 RST 60 GUESTS. Find Bree or Nicole at 6pm and get your free drink tick
 et.\n\nThis is a \"PRIVATE VBNIGHTLIFE PARTY\" AND LOCAL'S NIGHT. RSVP
  HERE AND REGISTER WITH US WHEN YOU ARRIVE TO GET YOUR FREE DRINK TICK
 ET.\n\nWe are featuring Unflavored Svedka, Orange Cream Pop, Mango Pin
 eapple and Svedka Citron\n\nUse your imagination and create your own d
 rink or ask your bartender for his recommendation.\nSome Svedka Drink 
 Examples: • Svedka Orange Cream Pop CRUSH • Svedka Mango Pineapple
  and Ginger Ale • Svedka Citron and Soda\nSee more at www.Svedka.co
 m\nAfter you enjoy your first drink free, All Svedka drinks will be pr
 iced at $5.00 until 9pm. Other Drink specials include $3.00 BEER and $
 4.00 WINE\n 25% off food and drink! $2 Tacos!\n\nThis place has delici
 ous food, WONDERFUL WINES and incredible views with floor to ceiling w
 indows overlooking the ocean!\n\nGREAT MUSIC, GREAT PEOPLE AND FUN.\nY
 ou Loved him Last Week so He will be back lucky to \"John Smallwood\" 
 the lead singer of the very popular local band Vinyl Headlights, perfo
 rming JUST FOR OUR EVENT! \n\nHappy Hour 'till 8pm; $5 Svedka drinks 
 'till 9pm, Live music 'till 9pm.\n\nFree Parking in the Sheraton Parki
 ng lot on 36th St or Free Valet parking (Tips Please) .\n\nThey are al
 so offering a coupon for dinner. If you Buy One Entree you receive the
  other FREE!  You can use this coupon ANY DAY OR NIGHT! http://www.v
 bhotcoupons.com/fusion\n\nCheck out the menu here: http://assets.sher
 atonvirginiabeach.com/lps/assets/u/Fusion_Menu_Sheraton.pdf\n \nThey 
 are offering us rooms for $119 this Wednesday. This is a savings of $3
 0-$60. Just mention \"local's night\" when you make the reservations a
 t the front desk or in house that night!\n\n\n  \n\nFor more informat
 ion visit https://vbnightlife.com/events/fusion
DTSTART:20140514T220000Z
DTEND:20140515T010000Z
CATEGORIES:vbnightlife, "local's", night, after, work, party
LOCATION:FUSION RESTAURANT AND LOUNGE
WEBSITE:
URL:
CONTACT:
ORGANIZER;CN="VBnightlife.com":https://vbnightlife.com/profile/admin
ATTACH;FMTTYPE="image/jpeg":http://storage.ning.com/topology/rest/1.0/
 file/get/1664234618?profile=original
ATTENDEE;ROLE=REQ-PARTICIPANT;PARTSTAT=ACCEPTED;RSVP=TRUE;CN="Rolan St
 ears":https://vbnightlife.com/profile/RolanStears
ATTENDEE;ROLE=REQ-PARTICIPANT;PARTSTAT=ACCEPTED;RSVP=TRUE;CN="Joan LaR
 ock":https://vbnightlife.com/profile/JoanLaRock
ATTENDEE;ROLE=REQ-PARTICIPANT;PARTSTAT=ACCEPTED;RSVP=TRUE;CN=michellek
 :https://vbnightlife.com/profile/michellek
ATTENDEE;ROLE=REQ-PARTICIPANT;PARTSTAT=ACCEPTED;RSVP=TRUE;CN="VBnightl
 ife.com":https://vbnightlife.com/profile/admin
ATTENDEE;ROLE=REQ-PARTICIPANT;PARTSTAT=ACCEPTED;RSVP=TRUE;CN="Ruben Ca
 ballero":https://vbnightlife.com/profile/RubenCaballero607
ATTENDEE;ROLE=REQ-PARTICIPANT;PARTSTAT=ACCEPTED;RSVP=TRUE;CN=littlemer
 maid:https://vbnightlife.com/profile/littlemermaid
ATTENDEE;ROLE=REQ-PARTICIPANT;PARTSTAT=ACCEPTED;RSVP=TRUE;CN="Alan Boy
 nton":https://vbnightlife.com/profile/AlanBoynton
END:VEVENT
END:VCALENDAR
