BEGIN:VCALENDAR
PRODID:NingEventWidget-v1
VERSION:2.0
METHOD:PUBLISH
BEGIN:VEVENT
UID:2508951:Event:313770
DTSTAMP:20260425T213433Z
SUMMARY:FunkFest Beach Party
DESCRIPTION:FunkFest is a full-blown 2-day celebration with lively ent
 ertainment, cultural presentations, children's activities, business se
 minars, health and wellness displays, food, art, and shopping. Funk Fe
 st will remain the heart and soul of this weekend event, featuring mus
 ic generated over the years by influential legends such as James Brown
 , Sly and the Family Stone, George Clinton, and The Ohio Players. Funk
  is an American musical style that originated in the mid-to late-1960
 s when African-American musicians blended soul music, soulful jazz, 
 and R&B into a rhythmic, danceable new form of music. Funk brings a st
 rong rhythmic groove of electric bass and drums to the foreground. Fun
 k music was a major influence on the development of 1970’s disco mus
 ic, and has even impacted house music and hip-hop. Food, merchandise, 
 and dance contests all contribute to a festive, “funky” vibe!\n\nE
 ntertainment Schedule:\nFriday, August 28\n6:00pm-7:30pm, DJ Heart Att
 ack\n8:00pm-9:00pm, Con Funk Shun\n9:30pm-10:45pm, Zapp Band\nSaturday
 , August 29\n6:00pm-7:30pm, DJ Heart Attack\n8:00pm-9:00pm, Joselyn Be
 st\n9:30pm-10:45pm, Larry Graham & Graham Central Station\n\n\n\n\n\n\
 n\nFor more information visit https://vbnightlife.com/events/funkfest-
 beach-party
DTSTART:20150828T040000Z
DTEND:20150830T035900Z
CATEGORIES:"beach party", "africana festival", "funk fest"
LOCATION:24th Street Park
WEBSITE:
URL:
CONTACT:
ORGANIZER:VBnightlife.com / VBdaylife.com /
ATTACH;FMTTYPE="image/jpeg":http://storage.ning.com/topology/rest/1.0/
 file/get/1664285725?profile=original
ATTENDEE;ROLE=REQ-PARTICIPANT;PARTSTAT=ACCEPTED;RSVP=TRUE;CN="Rolan St
 ears":https://vbnightlife.com/profile/RolanStears
ATTENDEE;ROLE=REQ-PARTICIPANT;PARTSTAT=ACCEPTED;RSVP=TRUE;CN="VBnightl
 ife.com":https://vbnightlife.com/profile/admin
END:VEVENT
END:VCALENDAR
