BEGIN:VCALENDAR
PRODID:NingEventWidget-v1
VERSION:2.0
METHOD:PUBLISH
BEGIN:VEVENT
UID:2508951:Event:11711
DTSTAMP:20260423T022702Z
SUMMARY:fundraiser - ST. MARY'S DISABLED CHILDREN'S HOME BENEFIT
DESCRIPTION:DAHNA ROWE, DIRTY TOYS, FORCE AND SEVENKIN (2pm)\n\n\nGENE
 RAL BOOTH BLVD\n\n12PM\n\nFor more information visit https://vbnightli
 fe.com/events/fundraiser-st-marys-disabled
DTSTART:20090426T160000Z
DTEND:20090426T230000Z
CATEGORIES:fundraiser
LOCATION:Clutch Bar - General Booth
WEBSITE:
URL:
CONTACT:
ORGANIZER;CN="Nicole Maxino":https://vbnightlife.com/profile/NicoleMax
 ino
ATTACH;FMTTYPE="image/jpeg":http://storage.ning.com/topology/rest/1.0/
 file/get/1664070723?profile=original
ATTENDEE;ROLE=REQ-PARTICIPANT;PARTSTAT=ACCEPTED;RSVP=TRUE;CN="Nicole M
 axino":https://vbnightlife.com/profile/NicoleMaxino
END:VEVENT
END:VCALENDAR
