BEGIN:VCALENDAR
PRODID:NingEventWidget-v1
VERSION:2.0
METHOD:PUBLISH
BEGIN:VEVENT
UID:2508951:Event:12831
DTSTAMP:20260425T142436Z
SUMMARY:FUNDRAISER FOR OPERATION SMILE @ GUADALAJARA sponsored by W. T
 . COOKE ELEMENTARY
DESCRIPTION:Come and Share a Smile\n\nW.T. Cooke Elementary School's O
 peration Smile Club Fundraiser\n\n4 to 9pm\n\n10% of the gross sales g
 o to the fundraising event.\n\nPlease tell your waiter you are dining 
 for Cooke's Operation Smile Club to earn the $$ for Operation Smile!!!
 \n\nFor more information visit https://vbnightlife.com/events/fundrais
 er-for-operation-smile
DTSTART:20090504T200000Z
DTEND:20090505T010000Z
CATEGORIES:fundraiser, dinner
LOCATION:Guadalajara on 21st and Atlantic
WEBSITE:
URL:
CONTACT:
ORGANIZER:Cooke Elementary
ATTACH;FMTTYPE="image/jpeg":http://storage.ning.com/topology/rest/1.0/
 file/get/1664074368?profile=original
ATTENDEE;ROLE=REQ-PARTICIPANT;PARTSTAT=ACCEPTED;RSVP=TRUE;CN="Nicole M
 axino":https://vbnightlife.com/profile/NicoleMaxino
END:VEVENT
END:VCALENDAR
