BEGIN:VCALENDAR
PRODID:NingEventWidget-v1
VERSION:2.0
METHOD:PUBLISH
BEGIN:VEVENT
UID:2508951:Event:13001
DTSTAMP:20260425T172933Z
SUMMARY:FUNDRAISER FOR CHILDREN'S MIRACLE NETWORK @ LUCKY OYSTER
DESCRIPTION:Miss Virginia Beach Elle Bunn is holding a cashola from 4 
 to 9pm Friday. Proceeds benefit the Children's Miracle Network and the
  Miss America Organization. Mention to your server and 10% of your bil
 l will be donated to these worthy causes.\n\nFor more information visi
 t https://vbnightlife.com/events/fundraiser-for-childrens
DTSTART:20090508T200000Z
DTEND:20090509T010000Z
CATEGORIES:fundraiser, dinner
LOCATION:Lucky Oyster
WEBSITE:
URL:
CONTACT:
ORGANIZER:Elle Bunn
ATTACH;FMTTYPE="image/jpeg":http://storage.ning.com/topology/rest/1.0/
 file/get/1664074537?profile=original
ATTENDEE;ROLE=REQ-PARTICIPANT;PARTSTAT=ACCEPTED;RSVP=TRUE;CN="Nicole M
 axino":https://vbnightlife.com/profile/NicoleMaxino
END:VEVENT
END:VCALENDAR
